BEGIN:VCALENDAR
VERSION:2.0
PRODID:-//wp-events-plugin.com//7.2.3.1//EN
TZID:America/New_York
X-WR-TIMEZONE:America/New_York
BEGIN:VEVENT
UID:155795@kingstonhappenings.org
DTSTART;TZID=America/New_York:20260607T163000
DTEND;TZID=America/New_York:20260607T183000
DTSTAMP:20260309T014150Z
URL:https://kingstonhappenings.org/events/poly-enm-salon-mixer-meet-share-
 connect-grow-2026-06-07/
SUMMARY:Poly/ENM Salon &amp\; Mixer Meet. Share. Connect. Grow.
DESCRIPTION:Are you in open relationships or curious and seeking local comm
 unity?\n\nIf you're looking for a stimulating discussion about open relati
 onship styles\, and opportunities to connect and form new friendships\,\nt
 hen join us at our free events.\n\nPolyTalk:HV is a monthly salon-style di
 scussion featuring attendee-participation &amp\; social mixer for those in
  the Hudson Valley area who are Polyamorous\, ENM-practicing\, curious or 
 in any open relationship.
ATTACH;FMTTYPE=image/jpeg:https://kingstonhappenings.org/wp-content/upload
 s/2026/03/Generic-Monthly-Flyer-March-2026.jpg
CATEGORIES:@Featured,Community,Festivals and major community events,Happy
 Hours
LOCATION:Hudson Valley LGBTQ Community Center\, 300 Wall St\, Kingston\, NY
 \, 12401\, United States
GEO:41.933956;-74.019463
X-APPLE-STRUCTURED-LOCATION;VALUE=URI;X-ADDRESS=300 Wall St\, Kingston\, NY
 \, 12401\, United States;X-APPLE-RADIUS=100;X-TITLE=Hudson Valley LGBTQ Co
 mmunity Center:geo:41.933956,-74.019463
END:VEVENT
BEGIN:VTIMEZONE
TZID:America/New_York
X-LIC-LOCATION:America/New_York
BEGIN:DAYLIGHT
DTSTART:20260308T030000
TZOFFSETFROM:-0500
TZOFFSETTO:-0400
TZNAME:EDT
END:DAYLIGHT
END:VTIMEZONE
END:VCALENDAR