BEGIN:VCALENDAR
VERSION:2.0
PRODID:-//wp-events-plugin.com//7.2.3.1//EN
TZID:America/New_York
X-WR-TIMEZONE:America/New_York
BEGIN:VEVENT
UID:152116@kingstonhappenings.org
DTSTART;TZID=America/New_York:20251010T200000
DTEND;TZID=America/New_York:20251010T213000
DTSTAMP:20251007T130835Z
URL:https://kingstonhappenings.org/events/plainclothes/
SUMMARY:Plainclothes
DESCRIPTION:BGHV and the Rosendale Theater are proud to present a screening
  and post-show discussion of the new LGBTQ thriller film Plainclothes.\n\n
 Following the screening the film’s writer-director Carmen Emmi\, and oth
 er members of the team that made the film possible\, will join the audienc
 e for a discussion and Q&amp\;A about their newest work. \n\nSyracuse\, 19
 97. Promising undercover police officer Lucas (Tom Blyth) is dealing with 
 a breakup and the recent loss of his father. When he receives an assignmen
 t to lure and arrest gay men in a mall bathroom\, he is surprised to disco
 ver a scintillating connection with Andrew (Russell Tovey)\, one of his ta
 rgets. As their secret connection deepens and internal pressure to deliver
  arrests intensifies\, Lucas finds himself torn between duty and desire. A
 t his mother’s New Year’s Eve party\, Lucas loses a letter no one was 
 ever meant to read. With time running out and his secret life closing in a
 round him\, the evening builds towards an explosive reckoning where everyt
 hing he’s buried threatens to erupt.\n\nStarring Russell Tovey\, Tom Bly
 th\, Amy Forsyth\, Christian Cooke\, Maria Dizzia\, Gabe Fazio Directed by
  Carmen Emmi
ATTACH;FMTTYPE=image/jpeg:https://kingstonhappenings.org/wp-content/upload
 s/2025/09/Plainclothes-sm.jpg
CATEGORIES:@Featured,@Newsletter,Movies
LOCATION:Rosendale Theater\, 408 Main St\, Rosendale\, New York\, 12472\, U
 nited States
GEO:41.8441401;-74.0821133
X-APPLE-STRUCTURED-LOCATION;VALUE=URI;X-ADDRESS=408 Main St\, Rosendale\, N
 ew York\, 12472\, United States;X-APPLE-RADIUS=100;X-TITLE=Rosendale Theat
 er:geo:41.8441401,-74.0821133
END:VEVENT
BEGIN:VTIMEZONE
TZID:America/New_York
X-LIC-LOCATION:America/New_York
BEGIN:DAYLIGHT
DTSTART:20250309T030000
TZOFFSETFROM:-0500
TZOFFSETTO:-0400
TZNAME:EDT
END:DAYLIGHT
END:VTIMEZONE
END:VCALENDAR