BEGIN:VCALENDAR
VERSION:2.0
PRODID:-//wp-events-plugin.com//7.2.3.1//EN
TZID:America/New_York
X-WR-TIMEZONE:America/New_York
BEGIN:VEVENT
UID:152428@kingstonhappenings.org
DTSTART;TZID=America/New_York:20251102T140000
DTEND;TZID=America/New_York:20251102T153000
DTSTAMP:20251029T115325Z
URL:https://kingstonhappenings.org/events/phantom-of-the-opera/
SUMMARY:Phantom of the Opera
DESCRIPTION:Before Broadway\, and several films (including a wild adaptatio
 n by Brian dePalma in 1975)\, there was the original 1925 silent masterpie
 ce of Gaston LeRoux’s 1910 novel: Carl Laemmle’s The Phantom of the Op
 era starring “The Man of a Thousand Faces”\, Lon Chaney in his greates
 t and most terrifying horror makeup.\n\nLaemmle’s version is the most fa
 ithful to LaRoux’s novel about an aspiring orphaned young opera singer\,
  Christine Daaé\, who discovers that she has a mysterious admirer (aka An
 gel of Music) intent on helping her become a lead performer. This enigmati
 c and romantic\, (for the moment\, at least) masked presence is Erik\, als
 o known as the Phantom\, a horribly disfigured recluse who lives underneat
 h the Paris Opera House who – between Christine’s voice lessons – wr
 eaks mayhem\, murder and revenge without discovery.\n\nThe Phantom takes C
 hristine prisoner and demands her devotion and affection. His chances disa
 ppear after Christine finds out what lurks under his mask\, killing her gi
 rlish\, romantic ideals. Her suitor\, Vicomte Raoul de Chagny\, sets out t
 o rescue her\, with a thrilling chase through the streets of Paris culmina
 ting with an ending only Chaney could pull off.\n\nBefore the main film\, 
 will be the 1924 French silent film Au Secours! (Help!) a horror-comedy di
 rected by Abel Gance and starring comedian Max Linder. Max bets drinking b
 uddy Count Maulette 1\,000 francs that he can stay from 11:00 p.m. to midn
 ight in a Haunted Castle. The inhabitants of the castle are determined tha
 t “the house always wins”.\n\nLive Piano Accompaniment by Marta Waterm
 an
ATTACH;FMTTYPE=image/jpeg:https://kingstonhappenings.org/wp-content/upload
 s/2025/10/phantom-opera2sm.jpg
CATEGORIES:@Featured,@Newsletter,Movies
LOCATION:Rosendale Theater\, 408 Main St\, Rosendale\, New York\, 12472\, U
 nited States
GEO:41.8441401;-74.0821133
X-APPLE-STRUCTURED-LOCATION;VALUE=URI;X-ADDRESS=408 Main St\, Rosendale\, N
 ew York\, 12472\, United States;X-APPLE-RADIUS=100;X-TITLE=Rosendale Theat
 er:geo:41.8441401,-74.0821133
END:VEVENT
BEGIN:VTIMEZONE
TZID:America/New_York
X-LIC-LOCATION:America/New_York
BEGIN:STANDARD
DTSTART:20251102T010000
TZOFFSETFROM:-0400
TZOFFSETTO:-0500
TZNAME:EST
END:STANDARD
END:VTIMEZONE
END:VCALENDAR