BEGIN:VCALENDAR
VERSION:2.0
PRODID:-//wp-events-plugin.com//7.2.3.1//EN
TZID:America/New_York
X-WR-TIMEZONE:America/New_York
BEGIN:VEVENT
UID:155867@kingstonhappenings.org
DTSTART;TZID=America/New_York:20260321T140000
DTEND;TZID=America/New_York:20260321T160000
DTSTAMP:20260316T191025Z
URL:https://kingstonhappenings.org/events/peace-protest-songwriting-lab/
SUMMARY:Peace &amp\; Protest: Songwriting Lab
DESCRIPTION:\n\nPeace &amp\; Protest: Songwriting Lab is a free community w
 orkshop exploring the tradition of protest music through collaborative son
 gwriting.\n\nHeld at the Hudson Valley LGBTQ+ Community Center in Kingston
  on March 21 from 2–4 PM. Participants are invited to come together\, re
 flect\, and create original songs in a supportive group setting.\n\nPresen
 ted by Revival Jam and facilitated by Andrew Wolfson\, MS\, MT-BC\, a boar
 d-certified music therapist.\n\n\n\nRSVP: https://www.lgbtqcenter.org/cale
 ndar/peace-protest-songwriting-lab
ATTACH;FMTTYPE=image/jpeg:https://kingstonhappenings.org/wp-content/upload
 s/2026/03/PeaceandProtest_digital_compressed.jpg
CATEGORIES:@Featured,@Newsletter,Community,Educational classes and
 lectures,Music
LOCATION:Hudson Valley LGBTQ Community Center\, 300 Wall St\, Kingston\, NY
 \, 12401\, United States
GEO:41.933956;-74.019463
X-APPLE-STRUCTURED-LOCATION;VALUE=URI;X-ADDRESS=300 Wall St\, Kingston\, NY
 \, 12401\, United States;X-APPLE-RADIUS=100;X-TITLE=Hudson Valley LGBTQ Co
 mmunity Center:geo:41.933956,-74.019463
END:VEVENT
BEGIN:VTIMEZONE
TZID:America/New_York
X-LIC-LOCATION:America/New_York
BEGIN:DAYLIGHT
DTSTART:20260308T030000
TZOFFSETFROM:-0500
TZOFFSETTO:-0400
TZNAME:EDT
END:DAYLIGHT
END:VTIMEZONE
END:VCALENDAR