BEGIN:VCALENDAR
VERSION:2.0
PRODID:-//wp-events-plugin.com//7.2.3.1//EN
TZID:America/New_York
X-WR-TIMEZONE:America/New_York
BEGIN:VEVENT
UID:152746@kingstonhappenings.org
DTSTART;TZID=America/New_York:20251211T173000
DTEND;TZID=America/New_York:20251211T200000
DTSTAMP:20251208T204558Z
URL:https://kingstonhappenings.org/events/paw-ketbook-bingo/
SUMMARY:Paw-ketbook Bingo
DESCRIPTION:Join us for our updated annual Deck The Paws event! This is sur
 e to be an un-fur-gettable night of fun\, holiday gifts and a different tw
 ist on bingo! Win big for yourself or someone else! Tickets include 10 bin
 go cards\, with chances to win designer handbags and other exclusive items
  great for holiday gift-giving! Door prizes\, tricky tray\, 52 card draw a
 nd more! Enjoy a cash bar and bring your own picnic\, charcuterie board or
  other table of snacks for you and your friends. Don’t miss out on this 
 most exciting holiday paw-ty! $40 in advance/$50 at the door. Bring a full
  table of 8 for a discounted price of $280 in advance! Additional bingo ca
 rds available for $5 each to increase your winning chances. Doors open at 
 5:30pm\, bingo starts at 6pm. Tickets at www.ucspca.org.
ATTACH;FMTTYPE=image/jpeg:https://kingstonhappenings.org/wp-content/upload
 s/2025/11/f7bcd8dc-14c9-47ba-93e0-717cdcd3d490-3.png
CATEGORIES:@Featured,@Newsletter,Community
LOCATION:VFW Post 1386\, 708 East Chester St.\, Kingston\, NY\, 12401\, Uni
 ted States
GEO:41.9539012;-73.9909331
X-APPLE-STRUCTURED-LOCATION;VALUE=URI;X-ADDRESS=708 East Chester St.\, King
 ston\, NY\, 12401\, United States;X-APPLE-RADIUS=100;X-TITLE=VFW Post 1386
 :geo:41.9539012,-73.9909331
END:VEVENT
BEGIN:VTIMEZONE
TZID:America/New_York
X-LIC-LOCATION:America/New_York
BEGIN:STANDARD
DTSTART:20251102T010000
TZOFFSETFROM:-0400
TZOFFSETTO:-0500
TZNAME:EST
END:STANDARD
END:VTIMEZONE
END:VCALENDAR