BEGIN:VCALENDAR
VERSION:2.0
PRODID:-//wp-events-plugin.com//7.2.3.1//EN
TZID:America/New_York
X-WR-TIMEZONE:America/New_York
BEGIN:VEVENT
UID:152817@kingstonhappenings.org
DTSTART;TZID=America/New_York:20251126T190000
DTEND;TZID=America/New_York:20251126T190000
DTSTAMP:20251124T151212Z
URL:https://kingstonhappenings.org/events/painted-blue-sky-keegan-ales/
SUMMARY:Painted Blue Sky @ Keegan Ales
DESCRIPTION:This is The Band to see! Their live performances are the stuff 
 of legend. The 7 members combine over 210 years of professional experience
  having played all over the U.S. and Europe! A southern and classic rock 
 band covering tunes by the Allman Brothers\, CCR\, Eric Clapton\, the Roll
 ing Stones and more.\n\nCheck them out here
ATTACH;FMTTYPE=image/jpeg:https://kingstonhappenings.org/wp-content/upload
 s/2025/11/awesome_pbs_logo.jpeg
CATEGORIES:@Featured,@Newsletter,Music,Nightlife and entertainment
LOCATION:Keegan Ales\, 20 Saint James Street\, Kingston\, NY\, 12401\, Unit
 ed States
GEO:41.931504;-74.01187
X-APPLE-STRUCTURED-LOCATION;VALUE=URI;X-ADDRESS=20 Saint James Street\, Kin
 gston\, NY\, 12401\, United States;X-APPLE-RADIUS=100;X-TITLE=Keegan Ales:
 geo:41.931504,-74.01187
END:VEVENT
BEGIN:VTIMEZONE
TZID:America/New_York
X-LIC-LOCATION:America/New_York
BEGIN:STANDARD
DTSTART:20251102T010000
TZOFFSETFROM:-0400
TZOFFSETTO:-0500
TZNAME:EST
END:STANDARD
END:VTIMEZONE
END:VCALENDAR