BEGIN:VCALENDAR
VERSION:2.0
PRODID:-//wp-events-plugin.com//7.2.3.1//EN
TZID:America/New_York
X-WR-TIMEZONE:America/New_York
BEGIN:VEVENT
UID:151827@kingstonhappenings.org
DTSTART;TZID=America/New_York:20251206T160000
DTEND;TZID=America/New_York:20251206T180000
DTSTAMP:20251201T191706Z
URL:https://kingstonhappenings.org/events/paint-your-own-pottery-festive-e
 vent/
SUMMARY:Paint Your Own Pottery - Festive Event!
DESCRIPTION:Join us for a festive Paint Your Own Pottery on December 6th fr
 om 4pm to 6pm! We will be glazing 13" Ceramic Holiday trees that come with
  lights and fixtures\, glazes and firing included\, and snacks will be pro
 vided\, must register before November 22nd!\n\nNo experience required. Non
 -instructional session. Use a variety of glazes to create your masterpiece
 . Item will be kiln fired and available for pickup.\n\nREGISTER IN ADVANCE
  HERE!\n\n&nbsp\;
ATTACH;FMTTYPE=image/jpeg:https://kingstonhappenings.org/wp-content/upload
 s/2025/09/okay.png
CATEGORIES:@Featured,@Newsletter,Art,Community
LOCATION:Cornell Creative Arts Center\, 129 Cornell St. \, Kingston\, NY\, 
 12401\, United States
GEO:41.932942;-73.99999
X-APPLE-STRUCTURED-LOCATION;VALUE=URI;X-ADDRESS=129 Cornell St. \, Kingston
 \, NY\, 12401\, United States;X-APPLE-RADIUS=100;X-TITLE=Cornell Creative 
 Arts Center:geo:41.932942,-73.99999
END:VEVENT
BEGIN:VTIMEZONE
TZID:America/New_York
X-LIC-LOCATION:America/New_York
BEGIN:STANDARD
DTSTART:20251102T010000
TZOFFSETFROM:-0400
TZOFFSETTO:-0500
TZNAME:EST
END:STANDARD
END:VTIMEZONE
END:VCALENDAR