BEGIN:VCALENDAR
VERSION:2.0
PRODID:-//wp-events-plugin.com//7.2.3.1//EN
TZID:America/New_York
X-WR-TIMEZONE:America/New_York
BEGIN:VEVENT
UID:152269@kingstonhappenings.org
DTSTART;TZID=America/New_York:20251017T180000
DTEND;TZID=America/New_York:20251017T203000
DTSTAMP:20251013T172037Z
URL:https://kingstonhappenings.org/events/paint-sip/
SUMMARY:Paint &amp\; Sip
DESCRIPTION:Unwind and get creative in this fun\, step-by-step Sunflower pa
 inting class for adults and kids ages 9+. Adrianna Maselli-Theriault’s f
 riendly and approachable teaching style makes it easy for beginners and ex
 perienced painters alike to relax\, enjoy the process\, and socialize!\n\n
 Participants under 21 will be served fresh cider. Adults may enjoy a glass
  of wine\, or cider included with admission.\n\nAll materials included! 17
  &amp\; Under: FREE\n\nRegister and get tickets:\n\nhttps://www.eventbrite
 .com/e/paint-sip-sunflowers-tickets-1748593172249?aff=oddtdtcreator
ATTACH;FMTTYPE=image/jpeg:https://kingstonhappenings.org/wp-content/upload
 s/2025/10/Paint-and-Sip.jpeg
CATEGORIES:@Featured,@Newsletter,Educational classes and lectures
LOCATION:Athens Cultural Center\, 24 Second St.\, Athens\, NY\, United Stat
 es
GEO:42.26042;-73.809144
X-APPLE-STRUCTURED-LOCATION;VALUE=URI;X-ADDRESS=24 Second St.\, Athens\, NY
 \, United States;X-APPLE-RADIUS=100;X-TITLE=Athens Cultural Center:geo:42.
 26042,-73.809144
END:VEVENT
BEGIN:VTIMEZONE
TZID:America/New_York
X-LIC-LOCATION:America/New_York
BEGIN:DAYLIGHT
DTSTART:20250309T030000
TZOFFSETFROM:-0500
TZOFFSETTO:-0400
TZNAME:EDT
END:DAYLIGHT
END:VTIMEZONE
END:VCALENDAR