BEGIN:VCALENDAR
VERSION:2.0
PRODID:-//wp-events-plugin.com//7.2.3.1//EN
TZID:America/New_York
X-WR-TIMEZONE:America/New_York
BEGIN:VEVENT
UID:156363@kingstonhappenings.org
DTSTART;TZID=America/New_York:20260426T130000
DTEND;TZID=America/New_York:20260426T130000
DTSTAMP:20260420T130417Z
URL:https://kingstonhappenings.org/events/open-studio-2026-04-26/
SUMMARY:Open Studio
DESCRIPTION:Join us on the fourth Sunday of each month\, April through Octo
 ber\, for Open Studio sessions\, a relaxed space where artists of all ages
  can create\, share skills\, and connect. Bring your supplies and a projec
 t to work on! Pull up a chair and share a table as you create alongside fe
 llow artists.\nWater-based media\, fiber arts\, writing\, collage\, and mo
 re are welcome! Please note that oil paints and spray materials are not p
 ermitted in the building.\n\nSliding scale admission at the door: $5–$15
 \nRegistration encouraged\; walk-ins welcome!.\nOpen to all ages\; childre
 n must be accompanied by an adult.\n\nhttps://www.eventbrite.com/e/open-st
 udio-tickets-1986674732605?utm-campaign=social&amp\;utm-content=attendeesh
 are&amp\;utm-medium=discovery&amp\;utm-term=listing&amp\;utm-source=cp&amp
 \;aff=ebdsshcopyurl\n\n&nbsp\;\n\n&nbsp\;
ATTACH;FMTTYPE=image/jpeg:https://kingstonhappenings.org/wp-content/upload
 s/2026/04/OpenStudio.jpg
CATEGORIES:@Featured,Art,For kids
LOCATION:Athens Cultural Center\, 24 Second St.\, Athens\, NY\, United Stat
 es
GEO:42.26042;-73.809144
X-APPLE-STRUCTURED-LOCATION;VALUE=URI;X-ADDRESS=24 Second St.\, Athens\, NY
 \, United States;X-APPLE-RADIUS=100;X-TITLE=Athens Cultural Center:geo:42.
 26042,-73.809144
END:VEVENT
BEGIN:VTIMEZONE
TZID:America/New_York
X-LIC-LOCATION:America/New_York
BEGIN:DAYLIGHT
DTSTART:20260308T030000
TZOFFSETFROM:-0500
TZOFFSETTO:-0400
TZNAME:EDT
END:DAYLIGHT
END:VTIMEZONE
END:VCALENDAR