BEGIN:VCALENDAR
VERSION:2.0
PRODID:-//wp-events-plugin.com//7.2.3.1//EN
TZID:America/New_York
X-WR-TIMEZONE:America/New_York
BEGIN:VEVENT
UID:151883@kingstonhappenings.org
DTSTART;TZID=America/New_York:20250918T173000
DTEND;TZID=America/New_York:20250918T190000
DTSTAMP:20250917T013208Z
URL:https://kingstonhappenings.org/events/open-source-forms-dancing-the-in
 ner-landscape-2025-09-18/
SUMMARY:Open Source Forms: Dancing the Inner Landscape
DESCRIPTION:In OSF classes we enter a creative process\; letting go of oute
 r layers of holding to find primal energy and ease. Guided by embodied ima
 gery as a powerful tool for transformation we’ll learn to move with agil
 ity\, transparency and depth. Through alignment studies\, movement explora
 tion and group improvisation we’ll cultivate a deep connection to our in
 ner and outer environments. A remarkably effective and revolutionary way o
 f learning\, the OSF approach can catalyze learning and transformation in 
 many kinds of practices and in daily life.\nThis ASK series is open to adu
 lts and teens\, all abilities celebrated. Of interest to dancers\, artists
 \, writers\, musicians\, actors\, athletes\, elders and people of all ages
  desiring ways to visualize\, move and be in their bodies with originality
  and joy. Register: earthbodybreath@gmail.com.\n\nTeresa Smith brings to h
 er teaching a warm appreciation of each person's essence and delights in a
 wakening the creative spirit. She is a certified teacher of OSF and studie
 d the root form Skinner Releasing for several decades. Through Earthbody E
 vents she presents performance and workshops emerging from an intimate con
 versation with the body\, psyche and nature environment. Earthbodyevents.c
 om
ATTACH;FMTTYPE=image/jpeg:https://kingstonhappenings.org/wp-content/upload
 s/2025/09/Teresa-Smith-Image-for-ASK-1030x579-1.jpg
CATEGORIES:@Featured,@Newsletter,Educational classes and lectures
LOCATION:Arts Society of Kingston (ASK)\, 97 Broadway\, Kingston\, New York
 \, 12401\, United States
GEO:41.920206;-73.985723
X-APPLE-STRUCTURED-LOCATION;VALUE=URI;X-ADDRESS=97 Broadway\, Kingston\, Ne
 w York\, 12401\, United States;X-APPLE-RADIUS=100;X-TITLE=Arts Society of 
 Kingston (ASK):geo:41.920206,-73.985723
END:VEVENT
BEGIN:VTIMEZONE
TZID:America/New_York
X-LIC-LOCATION:America/New_York
BEGIN:DAYLIGHT
DTSTART:20250309T030000
TZOFFSETFROM:-0500
TZOFFSETTO:-0400
TZNAME:EDT
END:DAYLIGHT
END:VTIMEZONE
END:VCALENDAR