BEGIN:VCALENDAR
VERSION:2.0
PRODID:-//wp-events-plugin.com//7.2.3.1//EN
TZID:America/New_York
X-WR-TIMEZONE:America/New_York
BEGIN:VEVENT
UID:156081@kingstonhappenings.org
DTSTART;TZID=America/New_York:20260415T163000
DTEND;TZID=America/New_York:20260415T183000
DTSTAMP:20260402T122713Z
URL:https://kingstonhappenings.org/events/open-rehearsal-la-verdad-present
 s-unchainable-voices/
SUMMARY:Open rehearsal: La Verdad Presents Unchainable Voices
DESCRIPTION:Wednesday\, April 15\, 4:30 PM – 6:30 PM\nFree admission\, RS
 VP encouraged\nAudience members are welcome to enter and exit rehearsal as
  desired.\nStudio 2\, Studio Complex\nRSVP Here! \n\nThis intimate showin
 g will offer a glimpse into the creative process behind Unchainable Voices
 \, featuring small excerpts of the work as it is being discovered\, shaped
 \, and investigated in real time. Guests will experience the work up close
 \, witnessing the living process of creation as it unfolds in the studio.\
 nUnchainable Voices is a multidisciplinary experience rooted in dance and 
 movement that celebrates the power\, resilience\, and cultural impact of B
 lack women’s voices throughout history—singing their benevolent songs 
 and carrying their stories forward.
CATEGORIES:@Featured,@Newsletter,Art,Community,Dance
LOCATION:Kaatsbaan Cultural Park\, 120 Broadway\, Tivoli\, NY\, United Stat
 es
GEO:42.058652;-73.916093
X-APPLE-STRUCTURED-LOCATION;VALUE=URI;X-ADDRESS=120 Broadway\, Tivoli\, NY\
 , United States;X-APPLE-RADIUS=100;X-TITLE=Kaatsbaan Cultural Park:geo:42.
 058652,-73.916093
END:VEVENT
BEGIN:VTIMEZONE
TZID:America/New_York
X-LIC-LOCATION:America/New_York
BEGIN:DAYLIGHT
DTSTART:20260308T030000
TZOFFSETFROM:-0500
TZOFFSETTO:-0400
TZNAME:EDT
END:DAYLIGHT
END:VTIMEZONE
END:VCALENDAR