BEGIN:VCALENDAR
VERSION:2.0
PRODID:-//wp-events-plugin.com//7.2.3.1//EN
TZID:America/New_York
X-WR-TIMEZONE:America/New_York
BEGIN:VEVENT
UID:152432@kingstonhappenings.org
DTSTART;TZID=America/New_York:20251109T160000
DTEND;TZID=America/New_York:20251109T184500
DTSTAMP:20251103T160715Z
URL:https://kingstonhappenings.org/events/one-battle-after-another-2/
SUMMARY:One Battle After Another
DESCRIPTION:Want a peaceful retirement? Then don’t be a guerrilla fighter
 . Sixteen years ago\, Bob Ferguson (DiCaprio) and his French 75 revolution
 ary group stormed a US Immigration &amp\; Customs Enforcement detention ce
 ntre\, freeing hundreds of prisoners. But doing so put him in the crosshai
 rs of a military attack-dog and white supremacist leader ominously known a
 s Colonel Lockjaw (Sean Penn). Now\, even after a decade living off-grid i
 n a state of frazzled anxiety\, Bob’s fears of a reprisal might not be p
 aranoia.\n\nLoosely inspired by Thomas Pynchon’s 1990 novel Vineland\, t
 he most concrete plot point in the One Battle After Another trailer is the
  kidnapping of Bob’s baby daughter. But that’s just the jump-off in a 
 black-comedy actioner that sprawls wherever the hell it wants\, sweeping u
 p everything from weed-growing nuns to Benicio Del Toro as a karate teache
 r. Some critics calculate there could be as many as seven overlapping narr
 atives.
ATTACH;FMTTYPE=image/jpeg:https://kingstonhappenings.org/wp-content/upload
 s/2025/10/One-Battle-After-Another-sm-1.jpg
CATEGORIES:@Featured,@Newsletter,Movies
LOCATION:Rosendale Theater\, 408 Main St\, Rosendale\, New York\, 12472\, U
 nited States
GEO:41.8441401;-74.0821133
X-APPLE-STRUCTURED-LOCATION;VALUE=URI;X-ADDRESS=408 Main St\, Rosendale\, N
 ew York\, 12472\, United States;X-APPLE-RADIUS=100;X-TITLE=Rosendale Theat
 er:geo:41.8441401,-74.0821133
END:VEVENT
BEGIN:VTIMEZONE
TZID:America/New_York
X-LIC-LOCATION:America/New_York
BEGIN:STANDARD
DTSTART:20251102T010000
TZOFFSETFROM:-0400
TZOFFSETTO:-0500
TZNAME:EST
END:STANDARD
END:VTIMEZONE
END:VCALENDAR