BEGIN:VCALENDAR
VERSION:2.0
PRODID:-//wp-events-plugin.com//7.2.3.1//EN
TZID:America/New_York
X-WR-TIMEZONE:America/New_York
BEGIN:VEVENT
UID:153153@kingstonhappenings.org
DTSTART;TZID=America/New_York:20260114T190000
DTEND;TZID=America/New_York:20260114T200000
DTSTAMP:20260112T151201Z
URL:https://kingstonhappenings.org/events/once-ancient-oceans-hudson-river
 -geology/
SUMMARY:Once Ancient Oceans: Hudson River Geology
DESCRIPTION:Before the first dinosaurs\, before the first mammals\, just as
  the very first forests were beginning to form on Earth\, the land that ma
 kes up New York state today was covered by an ancient ocean. How did the g
 eology formed by this ancient world\, nearly 400 million years ago\, shape
  life and commerce along the Hudson River throughout the 1800’s and into
  the present?
CATEGORIES:@Featured,@Newsletter,Educational classes and lectures
LOCATION:Hudson River Maritime Museum\, 50 Rondout Landing\, Kingston\, NY\
 , 12401\, United States
GEO:41.91886;-73.980984
X-APPLE-STRUCTURED-LOCATION;VALUE=URI;X-ADDRESS=50 Rondout Landing\, Kingst
 on\, NY\, 12401\, United States;X-APPLE-RADIUS=100;X-TITLE=Hudson River Ma
 ritime Museum:geo:41.91886,-73.980984
END:VEVENT
BEGIN:VTIMEZONE
TZID:America/New_York
X-LIC-LOCATION:America/New_York
BEGIN:STANDARD
DTSTART:20251102T010000
TZOFFSETFROM:-0400
TZOFFSETTO:-0500
TZNAME:EST
END:STANDARD
END:VTIMEZONE
END:VCALENDAR