BEGIN:VCALENDAR
VERSION:2.0
PRODID:-//wp-events-plugin.com//7.2.3.1//EN
TZID:America/New_York
X-WR-TIMEZONE:America/New_York
BEGIN:VEVENT
UID:152053@kingstonhappenings.org
DTSTART;TZID=America/New_York:20251004T120000
DTEND;TZID=America/New_York:20251004T220000
DTSTAMP:20251006T122337Z
URL:https://kingstonhappenings.org/events/oktoberfest-the-big-shoe-live/
SUMMARY:Oktoberfest &amp\; The Big Shoe LIVE
DESCRIPTION:It's our favorite time of the year!! Time to party!!  Join us 
 for a day full of activity.\n\n12 Special Bottle Release\n1-4 The Big Shoe
  LIVE\n4:30 Stein Hoisting Contest\n5:30 Keg Toss\nWe will have our Marzen
  on draft plus 2 variations of it along with tasty German Food Specials.\n
 \nThe party of the year - see you there.\n\n\nOpen 12-10\n\nKitchen closes
  1hr before closing time\n\n\nStay tuned on our latest offerings by follow
 ing @rmv_cellars and @greatlifebrewingatrmv &amp\;  joining our mailing l
 ist here!\n\nDog-friendly. Family friendly.\n\n\n
ATTACH;FMTTYPE=image/jpeg:https://kingstonhappenings.org/wp-content/upload
 s/2025/09/OKTOBERFEST-Facebook-Cover.png
CATEGORIES:@Featured,@Newsletter,Music,Restaurant promotions
LOCATION:RMV Cellars\, 112 Burroughs Drive\, Esopus\, NY\, 12401\, United S
 tates
GEO:41.783753;-73.962551
X-APPLE-STRUCTURED-LOCATION;VALUE=URI;X-ADDRESS=112 Burroughs Drive\, Esopu
 s\, NY\, 12401\, United States;X-APPLE-RADIUS=100;X-TITLE=RMV Cellars:geo:
 41.783753,-73.962551
END:VEVENT
BEGIN:VTIMEZONE
TZID:America/New_York
X-LIC-LOCATION:America/New_York
BEGIN:DAYLIGHT
DTSTART:20250309T030000
TZOFFSETFROM:-0500
TZOFFSETTO:-0400
TZNAME:EDT
END:DAYLIGHT
END:VTIMEZONE
END:VCALENDAR