BEGIN:VCALENDAR
VERSION:2.0
PRODID:-//wp-events-plugin.com//7.2.3.1//EN
TZID:America/New_York
X-WR-TIMEZONE:America/New_York
BEGIN:VEVENT
UID:152405@kingstonhappenings.org
DTSTART;TZID=America/New_York:20251026T150000
DTEND;TZID=America/New_York:20251026T180000
DTSTAMP:20251020T155634Z
URL:https://kingstonhappenings.org/events/oktoberfest-bikerfest/
SUMMARY:Oktoberfest Bikerfest
DESCRIPTION:Ok HVBN family. Mark your calendars. This just in. We are going
  out with a bang. Come enjoy a great day of fun for our last bike event of
  the season. 3-6 pm @ Castaways in Connelly Ny. There will be food a great
  band &amp\; great bikes. All bikes &amp\; people welcomed.
ATTACH;FMTTYPE=image/jpeg:https://kingstonhappenings.org/wp-content/upload
 s/2025/10/558971397_24491028160560353_3412552121680808017_n.jpg
CATEGORIES:@Featured,@Newsletter,Festivals and major community
 events,Market
LOCATION:Castaways Bar and Grill\, 160 1st St\, Connelly\, NY\, 12417\, Uni
 ted States
GEO:41.911152;-73.993801
X-APPLE-STRUCTURED-LOCATION;VALUE=URI;X-ADDRESS=160 1st St\, Connelly\, NY\
 , 12417\, United States;X-APPLE-RADIUS=100;X-TITLE=Castaways Bar and Grill
 :geo:41.911152,-73.993801
END:VEVENT
BEGIN:VTIMEZONE
TZID:America/New_York
X-LIC-LOCATION:America/New_York
BEGIN:DAYLIGHT
DTSTART:20250309T030000
TZOFFSETFROM:-0500
TZOFFSETTO:-0400
TZNAME:EDT
END:DAYLIGHT
END:VTIMEZONE
END:VCALENDAR