BEGIN:VCALENDAR
VERSION:2.0
PRODID:-//wp-events-plugin.com//7.2.3.1//EN
TZID:America/New_York
X-WR-TIMEZONE:America/New_York
BEGIN:VEVENT
UID:151832@kingstonhappenings.org
DTSTART;TZID=America/New_York:20250927T130000
DTEND;TZID=America/New_York:20250927T170000
DTSTAMP:20250915T183655Z
URL:https://kingstonhappenings.org/events/oktoberfest-2/
SUMMARY:Oktoberfest
DESCRIPTION:\nJoin us for our annual Oktoberfest! Please see flyer for menu
  options. Make reservations by September 19th call 845-331-9372. Please se
 e our website for any questions www.kmdchoir.org.\n\n
ATTACH;FMTTYPE=image/jpeg:https://kingstonhappenings.org/wp-content/upload
 s/2025/09/Kmd-Oktoberfest-9.27.25-site.jpg
CATEGORIES:@Featured,Festivals and major community events
LOCATION:Kingston Maennerchor and Damenchor\, 37 Greenkill Ave\, Kingston\,
  New York\, 12401\, United States
GEO:41.928148;-74.00405490000003
X-APPLE-STRUCTURED-LOCATION;VALUE=URI;X-ADDRESS=37 Greenkill Ave\, Kingston
 \, New York\, 12401\, United States;X-APPLE-RADIUS=100;X-TITLE=Kingston Ma
 ennerchor and Damenchor:geo:41.928148,-74.00405490000003
END:VEVENT
BEGIN:VTIMEZONE
TZID:America/New_York
X-LIC-LOCATION:America/New_York
BEGIN:DAYLIGHT
DTSTART:20250309T030000
TZOFFSETFROM:-0500
TZOFFSETTO:-0400
TZNAME:EDT
END:DAYLIGHT
END:VTIMEZONE
END:VCALENDAR