BEGIN:VCALENDAR
VERSION:2.0
PRODID:-//wp-events-plugin.com//7.2.3.1//EN
TZID:America/New_York
X-WR-TIMEZONE:America/New_York
BEGIN:VEVENT
UID:151847@kingstonhappenings.org
DTSTART;TZID=America/New_York:20250921T120000
DTEND;TZID=America/New_York:20250921T160000
DTSTAMP:20250916T002738Z
URL:https://kingstonhappenings.org/events/octoberfest-cornell/
SUMMARY:Octoberfest @ Cornell
DESCRIPTION:Join us at the Harvest Bar for Sunday Funday with an Oktoberfes
 t twist!\nWe’re teaming up with @eqbrewery and @3bearswhiskeyco to bring
  you a festive afternoon on the waterfront.\n Highlights:Food specials wi
 th German flair || Stein-holding competitions ||Seasonal cocktails &amp\; 
 craft beer ||Outdoor vibes &amp\; live energyDress in your Oktoberfest bes
 t! \nThis is one event you won’t want to miss. Gather your friends\, pu
 t on your lederhosen\, and celebrate fall with us at The Cornell Restauran
 t + Bar.
ATTACH;FMTTYPE=image/jpeg:https://kingstonhappenings.org/wp-content/upload
 s/2025/09/548386048_122177102414538255_2116108714641122335_n.jpg
CATEGORIES:@Featured,@Newsletter,Festivals and major community
 events,Nightlife and entertainment
LOCATION:The Cornell Restaurant + Bar\, 100 Rondout Landing\, KINGSTON\, NY
 \, 12401\, United States
GEO:41.919617;-73.979588
X-APPLE-STRUCTURED-LOCATION;VALUE=URI;X-ADDRESS=100 Rondout Landing\, KINGS
 TON\, NY\, 12401\, United States;X-APPLE-RADIUS=100;X-TITLE=The Cornell Re
 staurant + Bar:geo:41.919617,-73.979588
END:VEVENT
BEGIN:VTIMEZONE
TZID:America/New_York
X-LIC-LOCATION:America/New_York
BEGIN:DAYLIGHT
DTSTART:20250309T030000
TZOFFSETFROM:-0500
TZOFFSETTO:-0400
TZNAME:EDT
END:DAYLIGHT
END:VTIMEZONE
END:VCALENDAR