BEGIN:VCALENDAR
VERSION:2.0
PRODID:-//wp-events-plugin.com//7.2.3.1//EN
TZID:America/New_York
X-WR-TIMEZONE:America/New_York
BEGIN:VEVENT
UID:152148@kingstonhappenings.org
DTSTART;TZID=America/New_York:20251009T180000
DTEND;TZID=America/New_York:20251009T210000
DTSTAMP:20251007T130832Z
URL:https://kingstonhappenings.org/events/october-pop-up-meet-us-at-the-ba
 rre/
SUMMARY:October Pop-Up Meet us at the Bar(re)
DESCRIPTION:Join us this Thursday at The Cornell in Kingston for the Octobe
 r installment of our monthly fundraiser series in support of the Catskill 
 Ballet Theatre’s 40th anniversary production of *The Nutcracker*. For 40
  years\, this holiday classic has brought beauty\, tradition\, and inspira
 tion to our community - and your support helps keep that magic alive.\nThi
 s is a simple\, meaningful chance to gather with fellow supporters\, conne
 ct with members of the ballet community\, and show your commitment to the 
 arts. Help us make this milestone year unforgettable and ensure that *The 
 Nutcracker* continues to shine for years to come!
ATTACH;FMTTYPE=image/jpeg:https://kingstonhappenings.org/wp-content/upload
 s/2025/10/556934127_767653989431374_4284197894218154639_n.jpg
CATEGORIES:@Featured,@Newsletter,Community
LOCATION:The Cornell Restaurant + Bar\, 100 Rondout Landing\, KINGSTON\, NY
 \, 12401\, United States
GEO:41.919617;-73.979588
X-APPLE-STRUCTURED-LOCATION;VALUE=URI;X-ADDRESS=100 Rondout Landing\, KINGS
 TON\, NY\, 12401\, United States;X-APPLE-RADIUS=100;X-TITLE=The Cornell Re
 staurant + Bar:geo:41.919617,-73.979588
END:VEVENT
BEGIN:VTIMEZONE
TZID:America/New_York
X-LIC-LOCATION:America/New_York
BEGIN:DAYLIGHT
DTSTART:20250309T030000
TZOFFSETFROM:-0500
TZOFFSETTO:-0400
TZNAME:EDT
END:DAYLIGHT
END:VTIMEZONE
END:VCALENDAR