BEGIN:VCALENDAR
VERSION:2.0
PRODID:-//wp-events-plugin.com//7.2.3.1//EN
TZID:America/New_York
X-WR-TIMEZONE:America/New_York
BEGIN:VEVENT
UID:152298@kingstonhappenings.org
DTSTART;TZID=America/New_York:20251019T160000
DTEND;TZID=America/New_York:20251019T183000
DTSTAMP:20251013T115547Z
URL:https://kingstonhappenings.org/events/october-kingston-jazz-jam/
SUMMARY:October Kingston Jazz Jam
DESCRIPTION:Fall is in full swing at the fabulous Kingston Jazz Jam w/smoki
 n' house band: Bill Beveridge\, keys\; Eric Marshall\, bass\; April\, drum
 s. Instrumentalists &amp\; vocalists welcome to join in the fun. Jazz love
 rs get the best seats in the house plus complimentary refreshments. By don
 ation. https://www.facebook.com/events/1620308235598096.   https://chro
 matic-studios.com/event/kingston-jazz-jam-october-2025/
ATTACH;FMTTYPE=image/jpeg:https://kingstonhappenings.org/wp-content/upload
 s/2025/10/OCTOBER-KJJ-Flyer.jpg
CATEGORIES:@Featured
LOCATION:Chromatic Studios\, 71 O'Neil St. \, Kingston\, NY\, 12401\, Unite
 d States
GEO:41.932209;-74.003624
X-APPLE-STRUCTURED-LOCATION;VALUE=URI;X-ADDRESS=71 O'Neil St. \, Kingston\,
  NY\, 12401\, United States;X-APPLE-RADIUS=100;X-TITLE=Chromatic Studios:g
 eo:41.932209,-74.003624
END:VEVENT
BEGIN:VTIMEZONE
TZID:America/New_York
X-LIC-LOCATION:America/New_York
BEGIN:DAYLIGHT
DTSTART:20250309T030000
TZOFFSETFROM:-0500
TZOFFSETTO:-0400
TZNAME:EDT
END:DAYLIGHT
END:VTIMEZONE
END:VCALENDAR