BEGIN:VCALENDAR
VERSION:2.0
PRODID:-//wp-events-plugin.com//7.2.3.1//EN
TZID:America/New_York
X-WR-TIMEZONE:America/New_York
BEGIN:VEVENT
UID:152312@kingstonhappenings.org
DTSTART;TZID=America/New_York:20251018T160000
DTEND;TZID=America/New_York:20251019T160000
DTSTAMP:20251020T141607Z
URL:https://kingstonhappenings.org/events/nys-sheep-and-wool-festival/
SUMMARY:NYS SHEEP AND WOOL FESTIVAL
DESCRIPTION:Mark your calendars for the fall event of the season- The NYS S
 HEEP AND WOOL FESTIVAL- October 18-19 at the Dutchess County Fairgrounds! 
 Get advanced discount tickets at www.dutchessfair.com
ATTACH;FMTTYPE=image/jpeg:https://kingstonhappenings.org/wp-content/upload
 s/2025/10/550403648_1347301996766303_2330118322413616886_n.jpg
CATEGORIES:@Featured,@Newsletter,Festivals and major community
 events,Market,Nightlife and entertainment
LOCATION:Dutchess County Fairgrounds\, \, 
X-APPLE-STRUCTURED-LOCATION;VALUE=URI;X-ADDRESS=\, ;X-APPLE-RADIUS=100;X-TI
 TLE=Dutchess County Fairgrounds:geo:0,0
END:VEVENT
BEGIN:VTIMEZONE
TZID:America/New_York
X-LIC-LOCATION:America/New_York
BEGIN:DAYLIGHT
DTSTART:20250309T030000
TZOFFSETFROM:-0500
TZOFFSETTO:-0400
TZNAME:EDT
END:DAYLIGHT
END:VTIMEZONE
END:VCALENDAR