BEGIN:VCALENDAR
VERSION:2.0
PRODID:-//wp-events-plugin.com//7.2.3.1//EN
TZID:America/New_York
X-WR-TIMEZONE:America/New_York
BEGIN:VEVENT
UID:153066@kingstonhappenings.org
DTSTART;TZID=America/New_York:20251231T190000
DTEND;TZID=America/New_York:20260101T000000
DTSTAMP:20251229T165020Z
URL:https://kingstonhappenings.org/events/nye-jazz-buffet-with-teri-roiger
 -quartet/
SUMMARY:NYE Jazz Buffet with Teri Roiger Quartet
DESCRIPTION:Teri Roiger Quartet 7-10pm\n\nHang out and party till midnight 
 for champagne toast\n\nSingles welcome – community table or bar seating\
 n\n$75/per person includes buffet &amp\; music\n\nReservations only 845-68
 7-NERD(6373)\n\nTeri Roiger – vocals\n\nJohn Menegon – bass\n\nBill Wa
 re – vibraphone\n\nMatt Garrity - Drums
ATTACH;FMTTYPE=image/jpeg:https://kingstonhappenings.org/wp-content/upload
 s/2025/12/2025.12.24_NYE2.jpg
CATEGORIES:@Featured,@Newsletter,Festivals and major community
 events,Music,Nightlife and entertainment
LOCATION:Lydia's Cafe\, 7 Old U.S. 209\, Stone Ridge\, New York\, United St
 ates
GEO:41.8306145;-74.17658890000001
X-APPLE-STRUCTURED-LOCATION;VALUE=URI;X-ADDRESS=7 Old U.S. 209\, Stone Ridg
 e\, New York\, United States;X-APPLE-RADIUS=100;X-TITLE=Lydia's Cafe:geo:4
 1.8306145,-74.17658890000001
END:VEVENT
BEGIN:VTIMEZONE
TZID:America/New_York
X-LIC-LOCATION:America/New_York
BEGIN:STANDARD
DTSTART:20251102T010000
TZOFFSETFROM:-0400
TZOFFSETTO:-0500
TZNAME:EST
END:STANDARD
END:VTIMEZONE
END:VCALENDAR