BEGIN:VCALENDAR
VERSION:2.0
PRODID:-//wp-events-plugin.com//7.2.3.1//EN
TZID:America/New_York
X-WR-TIMEZONE:America/New_York
BEGIN:VEVENT
UID:152728@kingstonhappenings.org
DTSTART;TZID=America/New_York:20251219T190000
DTEND;TZID=America/New_York:20251221T153000
DTSTAMP:20251215T162909Z
URL:https://kingstonhappenings.org/events/nut-cracked/
SUMMARY:Nut/Cracked
DESCRIPTION:Friday\, December 19\, 7:00 PM\nSaturday\, December 20\, 7:00 P
 M\nSunday\, December 21\, 2:00 PM\n$45 General Admission | $30 Students wi
 th ID\n90 minutes\nBlack Box Theater\, Studio Complex\nJoin us for Nut/Cra
 cked — The Bang Group’s beloved\, witty response to The Nutcracker —
  returning to Kaatsbaan after sold-out performances last year.\nChoreograp
 her David Parker draws inspiration from across the dance spectrum\, blendi
 ng tap\, ballet\, disco\, and even bubble wrap to create a unique performa
 nce that reimagines Tchaikovsky’s iconic score.\nWith renditions ranging
  from Duke Ellington to Glenn Miller\, Nut/Cracked transforms the familiar
  into something delightfully unexpected. Praised by the New York Times as 
 “immensely entertaining” and “intensely musical\,” this production
  combines humor and artistry in a way that will leave you seeing The Nutcr
 acker in a whole new light.\nTickets and more information here: https://ci
 .ovationtix.com/36035/production/1247496
ATTACH;FMTTYPE=image/jpeg:https://kingstonhappenings.org/wp-content/upload
 s/2025/11/NUTCRACKED3_PCNicholasBurnham.jpg
CATEGORIES:@Featured,@Newsletter,Comedy,Dance,Festivals and major
 community events,For kids,For seniors,Theater
LOCATION:Kaatsbaan Cultural Park\, 120 Broadway\, Tivoli\, NY\, United Stat
 es
GEO:42.058652;-73.916093
X-APPLE-STRUCTURED-LOCATION;VALUE=URI;X-ADDRESS=120 Broadway\, Tivoli\, NY\
 , United States;X-APPLE-RADIUS=100;X-TITLE=Kaatsbaan Cultural Park:geo:42.
 058652,-73.916093
END:VEVENT
BEGIN:VTIMEZONE
TZID:America/New_York
X-LIC-LOCATION:America/New_York
BEGIN:STANDARD
DTSTART:20251102T010000
TZOFFSETFROM:-0400
TZOFFSETTO:-0500
TZNAME:EST
END:STANDARD
END:VTIMEZONE
END:VCALENDAR