BEGIN:VCALENDAR
VERSION:2.0
PRODID:-//wp-events-plugin.com//7.2.3.1//EN
TZID:America/New_York
X-WR-TIMEZONE:America/New_York
BEGIN:VEVENT
UID:153293@kingstonhappenings.org
DTSTART;TZID=America/New_York:20260116T190000
DTEND;TZID=America/New_York:20260116T213000
DTSTAMP:20260112T151204Z
URL:https://kingstonhappenings.org/events/nuremberg/
SUMMARY:Nuremberg
DESCRIPTION:Nuremberg (2025) is a historical drama film about the post-WWII
  Nuremberg Trials\, focusing on the psychological battle between U.S. Army
  psychiatrist Dr. Douglas Kelley (Rami Malek) and Nazi leader Hermann Gör
 ing (Russell Crowe) as Kelley assesses Göring’s fitness to stand trial 
 for war crimes\, exploring themes of justice vs. vengeance\, the nature of
  evil\, and holding humanity accountable.
ATTACH;FMTTYPE=image/jpeg:https://kingstonhappenings.org/wp-content/upload
 s/2025/12/Nuremberg-sm.jpg
CATEGORIES:@Featured,@Newsletter,Movies
LOCATION:Rosendale Theater\, 408 Main St\, Rosendale\, New York\, 12472\, U
 nited States
GEO:41.8441401;-74.0821133
X-APPLE-STRUCTURED-LOCATION;VALUE=URI;X-ADDRESS=408 Main St\, Rosendale\, N
 ew York\, 12472\, United States;X-APPLE-RADIUS=100;X-TITLE=Rosendale Theat
 er:geo:41.8441401,-74.0821133
END:VEVENT
BEGIN:VTIMEZONE
TZID:America/New_York
X-LIC-LOCATION:America/New_York
BEGIN:STANDARD
DTSTART:20251102T010000
TZOFFSETFROM:-0400
TZOFFSETTO:-0500
TZNAME:EST
END:STANDARD
END:VTIMEZONE
END:VCALENDAR