BEGIN:VCALENDAR
VERSION:2.0
PRODID:-//wp-events-plugin.com//7.2.3.1//EN
TZID:America/New_York
X-WR-TIMEZONE:America/New_York
BEGIN:VEVENT
UID:152038@kingstonhappenings.org
DTSTART;TZID=America/New_York:20250927T193000
DTEND;TZID=America/New_York:20250927T230000
DTSTAMP:20250929T140442Z
URL:https://kingstonhappenings.org/events/no-shelter-with-the-stoneflies-a
 t-keegan-ales-brewery/
SUMMARY:NO SHELTER with The Stoneflies at Keegan Ales Brewery
DESCRIPTION:Rage Against The Machine Tribute NO SHELTER Returns to Kingston
 \, with Kingston Rock group The Stoneflies. What better place than here\, 
 What better time than now.
ATTACH;FMTTYPE=image/jpeg:https://kingstonhappenings.org/wp-content/upload
 s/2025/09/Rage-Against-The-Machine-tribute-No-Shelter-2.png
CATEGORIES:@Featured,@Newsletter
LOCATION:Keegan Ales\, 20 Saint James Street\, Kingston\, NY\, 12401\, Unit
 ed States
GEO:41.931504;-74.01187
X-APPLE-STRUCTURED-LOCATION;VALUE=URI;X-ADDRESS=20 Saint James Street\, Kin
 gston\, NY\, 12401\, United States;X-APPLE-RADIUS=100;X-TITLE=Keegan Ales:
 geo:41.931504,-74.01187
END:VEVENT
BEGIN:VTIMEZONE
TZID:America/New_York
X-LIC-LOCATION:America/New_York
BEGIN:DAYLIGHT
DTSTART:20250309T030000
TZOFFSETFROM:-0500
TZOFFSETTO:-0400
TZNAME:EDT
END:DAYLIGHT
END:VTIMEZONE
END:VCALENDAR