BEGIN:VCALENDAR
VERSION:2.0
PRODID:-//wp-events-plugin.com//7.2.3.1//EN
TZID:America/New_York
X-WR-TIMEZONE:America/New_York
BEGIN:VEVENT
UID:153242@kingstonhappenings.org
DTSTART;TZID=America/New_York:20251229T000000
DTEND;TZID=America/New_York:20260101T000000
DTSTAMP:20251229T165016Z
URL:https://kingstonhappenings.org/events/new-years-winter-camp-2026/
SUMMARY:New Year’s Winter Camp 2026
DESCRIPTION:This 3-night camp is a great way to warm up your winter with mu
 sic\, dancing\, and fun in a picturesque natural setting.\nArrive Monday f
 or a delicious dinner\, followed by an evening song swap\, jam session\, a
 nd dance party. Enjoy two days of classes\, meals\, and workshops with our
  warm and welcoming music &amp\; dance instructors. Then\, ring in 2026 wi
 th a New Year’s Eve dance party on the last night — an epic evening of
  Swing\, Cajun\, Contras\, Squares\, Waltzes and more in two simultaneous 
 dance halls!\nOur music and dance staff will include JAY &amp\; MOLLY with
  SWINGOLOGY\, MIDNIGHT ON THE WATER\, WILL MENTOR\, BRIAN LAWTON\, EMILY V
 ANSTON\, KEVIN WIMMER\, LUKE HUVAL\, ETHAN MOODY and more to be announced 
 soon – stay tuned!
ATTACH;FMTTYPE=image/jpeg:https://kingstonhappenings.org/wp-content/upload
 s/2025/12/601855398_1343225127835534_799249020525111705_n.jpg
CATEGORIES:@Featured,@Newsletter,Festivals and major community
 events,Music,Nightlife and entertainment
LOCATION:Ashokan Center\, 477 Beaverkill Rd\, Olivebridge\, NY\, 12461\, 
GEO:41.929319;-74.202116
X-APPLE-STRUCTURED-LOCATION;VALUE=URI;X-ADDRESS=477 Beaverkill Rd\, Olivebr
 idge\, NY\, 12461\, ;X-APPLE-RADIUS=100;X-TITLE=Ashokan Center:geo:41.9293
 19,-74.202116
END:VEVENT
BEGIN:VTIMEZONE
TZID:America/New_York
X-LIC-LOCATION:America/New_York
BEGIN:STANDARD
DTSTART:20251102T010000
TZOFFSETFROM:-0400
TZOFFSETTO:-0500
TZNAME:EST
END:STANDARD
END:VTIMEZONE
END:VCALENDAR