BEGIN:VCALENDAR
VERSION:2.0
PRODID:-//wp-events-plugin.com//7.2.3.1//EN
TZID:America/New_York
X-WR-TIMEZONE:America/New_York
BEGIN:VEVENT
UID:153009@kingstonhappenings.org
DTSTART;TZID=America/New_York:20251231T210000
DTEND;TZID=America/New_York:20260101T003000
DTSTAMP:20251229T165021Z
URL:https://kingstonhappenings.org/events/new-years-eve-w-dead-unicorn-cel
 lmate-cryptidz-dj-tony-xmas/
SUMMARY:New Year's Eve w/Dead Unicorn\, Cellmate\, Cryptidz & DJ Tony Xmas
DESCRIPTION:PARTY TIME at the end of the world (or the year\, not sure yet)
 \nLive sets from Kingston’s loudest: Dead Unicorn\, Cellmate\, and Crypt
 idz\nDJ Tony Xmas keepin’ the beat between sets\nAt our beloved Keegan A
 les brewery.\nLet’s get weird\, Kingston!
ATTACH;FMTTYPE=image/jpeg:https://kingstonhappenings.org/wp-content/upload
 s/2025/12/NYE2025-Keegans2.png
CATEGORIES:@Featured,@Newsletter,Festivals and major community
 events,Music
LOCATION:Keegan Ales\, 20 Saint James Street\, Kingston\, NY\, 12401\, Unit
 ed States
GEO:41.931504;-74.01187
X-APPLE-STRUCTURED-LOCATION;VALUE=URI;X-ADDRESS=20 Saint James Street\, Kin
 gston\, NY\, 12401\, United States;X-APPLE-RADIUS=100;X-TITLE=Keegan Ales:
 geo:41.931504,-74.01187
END:VEVENT
BEGIN:VTIMEZONE
TZID:America/New_York
X-LIC-LOCATION:America/New_York
BEGIN:STANDARD
DTSTART:20251102T010000
TZOFFSETFROM:-0400
TZOFFSETTO:-0500
TZNAME:EST
END:STANDARD
END:VTIMEZONE
END:VCALENDAR