BEGIN:VCALENDAR
VERSION:2.0
PRODID:-//wp-events-plugin.com//7.2.3.1//EN
TZID:America/New_York
X-WR-TIMEZONE:America/New_York
BEGIN:VEVENT
UID:153238@kingstonhappenings.org
DTSTART;TZID=America/New_York:20251231T200000
DTEND;TZID=America/New_York:20251231T200000
DTSTAMP:20251229T165021Z
URL:https://kingstonhappenings.org/events/new-years-eve-sneaker-ball/
SUMMARY:New Years Eve Sneaker Ball
DESCRIPTION:New Years Eve Sneaker Ball. Come out and have a good time with 
 us. Packages available. Inbox for any details needed.
ATTACH;FMTTYPE=image/jpeg:https://kingstonhappenings.org/wp-content/upload
 s/2025/12/592064033_1392418822893764_2612014376533588502_n-1.jpg
CATEGORIES:@Featured,@Newsletter,Festivals and major community
 events,Music,Nightlife and entertainment
LOCATION:Best Western Plus Kingston Hotel and Conference Center\, 503 Washi
 ngton Avenue\, Kingston\, NY\, 12401\, United States
GEO:41.939705;-74.02938510000001
X-APPLE-STRUCTURED-LOCATION;VALUE=URI;X-ADDRESS=503 Washington Avenue\, Kin
 gston\, NY\, 12401\, United States;X-APPLE-RADIUS=100;X-TITLE=Best Western
  Plus Kingston Hotel and Conference Center:geo:41.939705,-74.0293851000000
 1
END:VEVENT
BEGIN:VTIMEZONE
TZID:America/New_York
X-LIC-LOCATION:America/New_York
BEGIN:STANDARD
DTSTART:20251102T010000
TZOFFSETFROM:-0400
TZOFFSETTO:-0500
TZNAME:EST
END:STANDARD
END:VTIMEZONE
END:VCALENDAR