BEGIN:VCALENDAR
VERSION:2.0
PRODID:-//wp-events-plugin.com//7.2.3.1//EN
TZID:America/New_York
X-WR-TIMEZONE:America/New_York
BEGIN:VEVENT
UID:153319@kingstonhappenings.org
DTSTART;TZID=America/New_York;VALUE=DATE:20251230
DTEND;TZID=America/New_York;VALUE=DATE:20260102
DTSTAMP:20260105T125257Z
URL:https://kingstonhappenings.org/events/new-years-eve-celebration-mohonk
 /
SUMMARY:New Year’s Eve Celebration @ Mohonk
DESCRIPTION:Ring in the new year in style with a trip to the mountaintop! O
 ur New York castle resort will be fully decorated for the holidays with tr
 ees\, festive wreaths\, and plenty of cheer for your New Year’s Eve geta
 way. In addition to daily family crafts\, indoor and outdoor winter activi
 ties\, and special New Year’s Eve events including live music and specia
 l performances\, a photo booth\, evening campfires\, a fireworks finale\, 
 and a midnight buffet!\nLearn more: https://www.mohonk.com/signatu.../new
 -years-eve-celebration/
ATTACH;FMTTYPE=image/jpeg:https://kingstonhappenings.org/wp-content/upload
 s/2025/12/576372410_1323323613172417_4404728659929389454_n.jpg
CATEGORIES:@Featured,@Newsletter,Festivals and major community
 events,Music,Nightlife and entertainment
LOCATION:Mohonk Mountain House\, 1000 Mountain Rest Road\, New Paltz\, NY\,
  12561\, United States
GEO:41.7682793;-74.15601659999999
X-APPLE-STRUCTURED-LOCATION;VALUE=URI;X-ADDRESS=1000 Mountain Rest Road\, N
 ew Paltz\, NY\, 12561\, United States;X-APPLE-RADIUS=100;X-TITLE=Mohonk Mo
 untain House:geo:41.7682793,-74.15601659999999
END:VEVENT
BEGIN:VTIMEZONE
TZID:America/New_York
X-LIC-LOCATION:America/New_York
BEGIN:STANDARD
DTSTART:20251102T010000
TZOFFSETFROM:-0400
TZOFFSETTO:-0500
TZNAME:EST
END:STANDARD
END:VTIMEZONE
END:VCALENDAR