BEGIN:VCALENDAR
VERSION:2.0
PRODID:-//wp-events-plugin.com//7.2.3.1//EN
TZID:America/New_York
X-WR-TIMEZONE:America/New_York
BEGIN:VEVENT
UID:153320@kingstonhappenings.org
DTSTART;TZID=America/New_York:20251231T190000
DTEND;TZID=America/New_York:20251231T190000
DTSTAMP:20260105T125313Z
URL:https://kingstonhappenings.org/events/new-years-eve-at-stone-house/
SUMMARY:New Year's Eve at Stone House!
DESCRIPTION:Celebrate New Year's Eve at Stone House! Tasty Holiday libation
 s\, special additions from our executive chef &amp\; much\, much more! Sp
 ecial musical guests: THE HIGH NOONERS\nReserve your table today!(845) 626
 -1500
ATTACH;FMTTYPE=image/jpeg:https://kingstonhappenings.org/wp-content/upload
 s/2025/12/605330023_1445213794277130_3193251437418426476_n.jpg
CATEGORIES:@Featured,@Newsletter,Festivals and major community
 events,Music,Nightlife and entertainment
LOCATION:Stone House Tavern\, 4802 Route 209\, Accord\, NY\, 12404\, United
  States
GEO:41.807431;-74.207793
X-APPLE-STRUCTURED-LOCATION;VALUE=URI;X-ADDRESS=4802 Route 209\, Accord\, N
 Y\, 12404\, United States;X-APPLE-RADIUS=100;X-TITLE=Stone House Tavern:ge
 o:41.807431,-74.207793
END:VEVENT
BEGIN:VTIMEZONE
TZID:America/New_York
X-LIC-LOCATION:America/New_York
BEGIN:STANDARD
DTSTART:20251102T010000
TZOFFSETFROM:-0400
TZOFFSETTO:-0500
TZNAME:EST
END:STANDARD
END:VTIMEZONE
END:VCALENDAR