BEGIN:VCALENDAR
VERSION:2.0
PRODID:-//wp-events-plugin.com//7.2.3.1//EN
TZID:America/New_York
X-WR-TIMEZONE:America/New_York
BEGIN:VEVENT
UID:153358@kingstonhappenings.org
DTSTART;TZID=America/New_York:20260111T190000
DTEND;TZID=America/New_York:20260111T190000
DTSTAMP:20260105T131522Z
URL:https://kingstonhappenings.org/events/new-yacht-city-yacht-rock-tribut
 e/
SUMMARY:New Yacht City - Yacht Rock Tribute
DESCRIPTION:Get ready to drop anchor and drift away on a wave of nostalgia.
  We are thrilled to announce that premier tribute act\, New Yacht City\, w
 ill headline a spectacular night of sun-kissed\, sophisticated soft rock i
 n Woodstock\, NY.\nThe highly anticipated concert will take place on Sunda
 y\, Jan 11\, 2026\, at the famous Colony venue in Woodstock. New Yacht Cit
 y is renowned for faithfully recreating the smooth\, high-energy sounds of
  70s and 80s Yacht Rock\, covering classics from artists like Steely Dan\,
  Toto\, Michael McDonald\, Kenny Loggins\, and Christopher Cross. Known fo
 r their meticulous musical arrangements and polished stage presence\, the 
 band promises an evening of undeniable groove that captures the spirit of 
 the genre.\n“Woodstock has always understood great music with its rich h
 istory\, and there’s no better place than Colony to enjoy the sound of o
 ur smooth grooves\,” said Manish Nag\, bandleader for New Yacht City. 
 “We’re bringing the entire band and a horn section to ensure this is t
 he ultimate throwback party for everyone in the Upstate region. Our singer
 \, guitarist\, and trumpeter all have roots in Upstate New York\, so we ar
 e really excited about this show.” The Woodstock concert marks a major h
 ighlight on the band’s fall tour\, offering local fans a chance to exper
 ience the sound that defined a generation—from the infectious basslines 
 of "Ride Like the Wind" to the complex harmonies of "Africa."\nNEW YACHT C
 ITYNew Yacht City is recognized as a leading tribute to the Yacht Rock mov
 ement. Founded on a shared passion for precision musicianship and the genr
 e’s distinct sonic aesthetic\, the band has toured extensively\, bringin
 g their smooth\, groove-oriented performances to packed audiences in Conne
 cticut\, New York City\, the Jersey shore\, and Philadelphia. They are a m
 ust-see for fans of high-quality\, high energy nostalgic pop music.\nhttps
 ://www.newyacht.city/
ATTACH;FMTTYPE=image/jpeg:https://kingstonhappenings.org/wp-content/upload
 s/2026/01/593711727_1499598538632370_2027518820086391189_n.jpg
CATEGORIES:@Featured,@Newsletter
LOCATION:Colony Woodstock NY\, 22 Rock City Rd\, Woodstock\, New York\, Uni
 ted States
GEO:42.0424924;-74.11799489999999
X-APPLE-STRUCTURED-LOCATION;VALUE=URI;X-ADDRESS=22 Rock City Rd\, Woodstock
 \, New York\, United States;X-APPLE-RADIUS=100;X-TITLE=Colony Woodstock NY
 :geo:42.0424924,-74.11799489999999
END:VEVENT
BEGIN:VTIMEZONE
TZID:America/New_York
X-LIC-LOCATION:America/New_York
BEGIN:STANDARD
DTSTART:20251102T010000
TZOFFSETFROM:-0400
TZOFFSETTO:-0500
TZNAME:EST
END:STANDARD
END:VTIMEZONE
END:VCALENDAR