BEGIN:VCALENDAR
VERSION:2.0
PRODID:-//wp-events-plugin.com//7.2.3.1//EN
TZID:America/New_York
X-WR-TIMEZONE:America/New_York
BEGIN:VEVENT
UID:156080@kingstonhappenings.org
DTSTART;TZID=America/New_York:20260417T190000
DTEND;TZID=America/New_York:20260417T201500
DTSTAMP:20260331T133011Z
URL:https://kingstonhappenings.org/events/new-work-preview-la-verdad-prese
 nts-unchainable-voices/
SUMMARY:New Work Preview: La Verdad Presents Unchainable Voices
DESCRIPTION:Friday\, April 17\, 7:00 PM\nFree admission with RSVP\n30 minut
 es\, followed by Q&amp\;A and reception\nStudio 2\, Studio Complex\nRSVP f
 or free HERE \nLa Verdad presents Unchainable Voices\, a work that speaks
  to the profound history of Black women who have stood as both the foundat
 ion of civilization and its most tireless stewards. Their benevolent songs
 —bold\, unwavering\, unchainable—have galvanized societies forward\, e
 ven as they have often been silenced\, ignored\, or marginalized. Unchaina
 ble Voices is a multidisciplinary artistic work rooted in dance and moveme
 nt that celebrates the power\, resilience\, and cultural impact of Black w
 omen’s voices throughout history.\nVerard J. Gilmore (Chicago\, IL)\, cr
 eator and producer of La Verdad\, is a choreographer whose work has been
  part of the Fire Island Dance Festival\, the Ailey Dancers Resource Fund 
 concerts\, Jazz Foundation of America Gala\, Contemporary West Dance Theat
 er\, and Nimbus Dance Works. Mr. Gilmore began his training at Curie Perfo
 rming and Creative Arts High School in Chicago under Diane Holda\, and was
  a scholarship student at The Ailey School\, where he was also a member of
  Ailey II. He performed as part of the White House Dance Series under Pres
 ident Obama and First Lady Michelle Obama\, and then again for President B
 iden. Mr. Gilmore is a certified Zena Rommett Floor-Barre mentor and instr
 uctor\, and certified personal trainer with NASM. Mr. Gilmore was the reci
 pient of the Jersey City Dance Artist Relief Fund Grant Award from Nimbus 
 Arts Center. He worked on the Disney film The Little Mermaid and most rece
 ntly with the Joffrey Concert Group. He continues to choreograph and teach
  workshops and master classes around the world.
CATEGORIES:@Featured,@Newsletter,Art,Dance
LOCATION:Kaatsbaan Cultural Park\, 120 Broadway\, Tivoli\, NY\, United Stat
 es
GEO:42.058652;-73.916093
X-APPLE-STRUCTURED-LOCATION;VALUE=URI;X-ADDRESS=120 Broadway\, Tivoli\, NY\
 , United States;X-APPLE-RADIUS=100;X-TITLE=Kaatsbaan Cultural Park:geo:42.
 058652,-73.916093
END:VEVENT
BEGIN:VTIMEZONE
TZID:America/New_York
X-LIC-LOCATION:America/New_York
BEGIN:DAYLIGHT
DTSTART:20260308T030000
TZOFFSETFROM:-0500
TZOFFSETTO:-0400
TZNAME:EDT
END:DAYLIGHT
END:VTIMEZONE
END:VCALENDAR