BEGIN:VCALENDAR
VERSION:2.0
PRODID:-//wp-events-plugin.com//7.2.3.1//EN
TZID:America/New_York
X-WR-TIMEZONE:America/New_York
BEGIN:VEVENT
UID:156082@kingstonhappenings.org
DTSTART;TZID=America/New_York:20260418T190000
DTEND;TZID=America/New_York:20260418T201500
DTSTAMP:20260413T134201Z
URL:https://kingstonhappenings.org/events/new-work-preview-baldwin-et-luci
 en/
SUMMARY:New Work Preview: Baldwin et Lucien
DESCRIPTION:Saturday\, April 18\, 7:00 PM\nFree admission with RSVP\n75 min
 utes in length with Q&amp\;A to follow\nBlack Box Theater\, Studio Complex
 \n\nRSVP Here! \n\nExperience the Broadway-bound original play (with musi
 c) Baldwin et Lucien by playwright and actor R. Jahan. Set in the winter o
 f 1952 in a secluded chalet in Loeche-les-Bains\, Switzerland\, Baldwin et
  Lucien is a surrealist drama that imagines an intimate chapter in the lif
 e of a young James Baldwin and his one true love\, Lucien Happersberger. M
 oving fluidly between memory\, fantasy\, and emotional confrontation\, the
  play explores race\, exile\, queer love\, language barriers\, artistic cr
 eation\, and the haunting presence of the past.\n\nR. Jahan is a multi-hyp
 henate artist—actor\, playwright\, and model—known for excavating bold
 \, emotionally charged narratives that center queer identity\, racial comp
 lexity\, and the pursuit of truth in art. A graduate of the American Music
 al and Dramatic Academy (AMDA)\, Jahan trained in both stage and film perf
 ormance before expanding into playwriting\, where their work merges poetic
  intensity with deep psychological\, magical surrealism.
ATTACH;FMTTYPE=image/jpeg:https://kingstonhappenings.org/wp-content/upload
 s/2026/03/BaldwinetLucien-Images-4-scaled.jpg
CATEGORIES:@Featured,@Newsletter,Art,Nightlife and entertainment,Theater
LOCATION:Kaatsbaan Cultural Park\, 120 Broadway\, Tivoli\, NY\, United Stat
 es
GEO:42.058652;-73.916093
X-APPLE-STRUCTURED-LOCATION;VALUE=URI;X-ADDRESS=120 Broadway\, Tivoli\, NY\
 , United States;X-APPLE-RADIUS=100;X-TITLE=Kaatsbaan Cultural Park:geo:42.
 058652,-73.916093
END:VEVENT
BEGIN:VTIMEZONE
TZID:America/New_York
X-LIC-LOCATION:America/New_York
BEGIN:DAYLIGHT
DTSTART:20260308T030000
TZOFFSETFROM:-0500
TZOFFSETTO:-0400
TZNAME:EDT
END:DAYLIGHT
END:VTIMEZONE
END:VCALENDAR