BEGIN:VCALENDAR
VERSION:2.0
PRODID:-//wp-events-plugin.com//7.2.3.1//EN
TZID:America/New_York
X-WR-TIMEZONE:America/New_York
BEGIN:VEVENT
UID:152647@kingstonhappenings.org
DTSTART;TZID=America/New_York:20251116T140000
DTEND;TZID=America/New_York:20251116T170000
DTSTAMP:20251110T222143Z
URL:https://kingstonhappenings.org/events/never-miss-a-sunday-show/
SUMMARY:Never Miss a Sunday Show!
DESCRIPTION:Hey now\, we had a conflict on our schedule so we're moving the
  show to a new date (November 16) We'll be inside for this one! See ya'll 
 there.\nNever Miss a Sunday Show! Indulge in 2 BIG sets of good 'ol Gratef
 ul Dead!\nGet ready for an unforgettable afternoon of high-vibe jams and d
 eep grooves as some of the Hudson Valley’s hottest players come together
  for one epic Sunday session at Keegan Ales!\nThis one-off live experience
  is more than a show—it’s a celebration of the music\, the community\,
  and the spirit of the Dead. Expect extended improvisations\, classic Dead
  tunes\, and unexpected magic. Whether you’re a diehard Deadhead or just
  here for the vibe\, you won’t want to miss this Sunday afternoon show.\
 n Sunday\, September 28 Keegan Ales\, Kingston NY Free Show | Family-Fr
 iendly | 3pm showtime\nCome dance\, sing\, and celebrate. Because as the s
 aying goes… never miss a Sunday show.
ATTACH;FMTTYPE=image/jpeg:https://kingstonhappenings.org/wp-content/upload
 s/2025/11/522242681_122096049122958519_8627749751073501636_n.jpg
CATEGORIES:@Featured,@Newsletter,Music,Nightlife and entertainment
LOCATION:Keegan Ales\, 20 Saint James Street\, Kingston\, NY\, 12401\, Unit
 ed States
GEO:41.931504;-74.01187
X-APPLE-STRUCTURED-LOCATION;VALUE=URI;X-ADDRESS=20 Saint James Street\, Kin
 gston\, NY\, 12401\, United States;X-APPLE-RADIUS=100;X-TITLE=Keegan Ales:
 geo:41.931504,-74.01187
END:VEVENT
BEGIN:VTIMEZONE
TZID:America/New_York
X-LIC-LOCATION:America/New_York
BEGIN:STANDARD
DTSTART:20251102T010000
TZOFFSETFROM:-0400
TZOFFSETTO:-0500
TZNAME:EST
END:STANDARD
END:VTIMEZONE
END:VCALENDAR