BEGIN:VCALENDAR
VERSION:2.0
PRODID:-//wp-events-plugin.com//7.2.3.1//EN
TZID:America/New_York
X-WR-TIMEZONE:America/New_York
BEGIN:VEVENT
UID:152622@kingstonhappenings.org
DTSTART;TZID=America/New_York:20251115T190000
DTEND;TZID=America/New_York:20251115T220000
DTSTAMP:20251110T222143Z
URL:https://kingstonhappenings.org/events/neil-alexander-nail/
SUMMARY:Neil Alexander & Nail
DESCRIPTION:Neil ’Nail’ Alexander (keys)\n\nBrian Mooney (basses)\n\nNa
 dav Zelniker (drums)\n\nOwen Dudley (guitar)\n\nKeyboard virtuoso and comp
 oser Neil Alexander leads these extraordinary players on a fusionesk journ
 ey through our hearts and minds.\n\nTight performance\, impeccable sound q
 uality\, high energy.\n\nJoin us for dinner and drinks including “the be
 st duck in the Hudson Valley”\n\nSuggested $20 donation for music\n\nRes
 ervations are recommended – call 845-687-NERD (6373)
ATTACH;FMTTYPE=image/jpeg:https://kingstonhappenings.org/wp-content/upload
 s/2025/11/2025.11.15_Nail2.jpg
CATEGORIES:@Featured,@Newsletter,Music,Nightlife and entertainment
LOCATION:Lydia's Cafe\, 7 Old U.S. 209\, Stone Ridge\, New York\, United St
 ates
GEO:41.8306145;-74.17658890000001
X-APPLE-STRUCTURED-LOCATION;VALUE=URI;X-ADDRESS=7 Old U.S. 209\, Stone Ridg
 e\, New York\, United States;X-APPLE-RADIUS=100;X-TITLE=Lydia's Cafe:geo:4
 1.8306145,-74.17658890000001
END:VEVENT
BEGIN:VTIMEZONE
TZID:America/New_York
X-LIC-LOCATION:America/New_York
BEGIN:STANDARD
DTSTART:20251102T010000
TZOFFSETFROM:-0400
TZOFFSETTO:-0500
TZNAME:EST
END:STANDARD
END:VTIMEZONE
END:VCALENDAR