BEGIN:VCALENDAR
VERSION:2.0
PRODID:-//wp-events-plugin.com//7.2.3.1//EN
TZID:America/New_York
X-WR-TIMEZONE:America/New_York
BEGIN:VEVENT
UID:151843@kingstonhappenings.org
DTSTART;TZID=America/New_York:20250921T190000
DTEND;TZID=America/New_York:20250921T190000
DTSTAMP:20250922T150108Z
URL:https://kingstonhappenings.org/events/napoleon-dynamite-live-upac/
SUMMARY:Napoleon Dynamite Live! @ UPAC
DESCRIPTION:New Date AND TIME: Sunday\, September 21\, 2025 at 7:00pm\nThis
  show has been RESCHEDULED due to a scheduling conflict with one of the ac
 tors. All tickets purchased for June will be honored on the new date\, Sun
 day\, September 21.\nThe beloved indie classic “Napoleon Dynamite” was
  released 20 years ago. Appealing to the inner-teenager in each of us\, th
 e story\, and more importantly the dialogue\, makes “Napoleon Dynamite
 ” one of the most quoted movies of our time. Napoleon Dynamite makes us 
 laugh – and laugh hard – over and over again. This unique evening incl
 udes a full screening of “Napoleon Dynamite” followed by a lively disc
 ussion with fan-favorite cast members\; Jon Heder (Napoleon Dynamite)\, Jo
 n Gries (Uncle Rico) and Efren Ramirez (Pedro).\nThe live show – perfect
  for the whole family — is a wild and hysterical blend of Q&amp\;A\, com
 edy improv\, game show\, and party\, with plenty of audience participation
 . Come join the fun and help celebrate this wonderful movie classic!
ATTACH;FMTTYPE=image/jpeg:https://kingstonhappenings.org/wp-content/upload
 s/2025/09/500355706_1105033601668587_1469840222845520529_n.jpg
CATEGORIES:@Featured,@Newsletter,Comedy,Festivals and major community
 events,Nightlife and entertainment
LOCATION:Ulster Performing Arts Center (UPAC)\, 601 Broadway\, Kingston\, N
 ew York\, 12401\, United States
GEO:41.92931799999999;-74.004142
X-APPLE-STRUCTURED-LOCATION;VALUE=URI;X-ADDRESS=601 Broadway\, Kingston\, N
 ew York\, 12401\, United States;X-APPLE-RADIUS=100;X-TITLE=Ulster Performi
 ng Arts Center (UPAC):geo:41.92931799999999,-74.004142
END:VEVENT
BEGIN:VTIMEZONE
TZID:America/New_York
X-LIC-LOCATION:America/New_York
BEGIN:DAYLIGHT
DTSTART:20250309T030000
TZOFFSETFROM:-0500
TZOFFSETTO:-0400
TZNAME:EDT
END:DAYLIGHT
END:VTIMEZONE
END:VCALENDAR