BEGIN:VCALENDAR
VERSION:2.0
PRODID:-//wp-events-plugin.com//7.2.3.1//EN
TZID:America/New_York
X-WR-TIMEZONE:America/New_York
BEGIN:VEVENT
UID:152274@kingstonhappenings.org
DTSTART;TZID=America/New_York:20251018T190000
DTEND;TZID=America/New_York:20251018T220000
DTSTAMP:20251013T172048Z
URL:https://kingstonhappenings.org/events/nancy-donnelly-quartet-2/
SUMMARY:Nancy Donnelly Quartet
DESCRIPTION:Performing a nice blend of Jump Swing\, and Blues - Louis Primo
 \, Ruth Brown Louis Jordan type of 50's jump Swing and Blues. Great for da
 ncing!\n\n&nbsp\;\n\nNancy Donnelly - vocals\n\nJohnny D'Agostino - guitar
 \n\nVincent Leggire - bass\n\nPhil Nestor - drums
ATTACH;FMTTYPE=image/jpeg:https://kingstonhappenings.org/wp-content/upload
 s/2025/10/2025.10.19_Donnelly.jpg
CATEGORIES:@Featured,@Newsletter,Music
LOCATION:Lydia's Cafe\, 7 Old U.S. 209\, Stone Ridge\, New York\, United St
 ates
GEO:41.8306145;-74.17658890000001
X-APPLE-STRUCTURED-LOCATION;VALUE=URI;X-ADDRESS=7 Old U.S. 209\, Stone Ridg
 e\, New York\, United States;X-APPLE-RADIUS=100;X-TITLE=Lydia's Cafe:geo:4
 1.8306145,-74.17658890000001
END:VEVENT
BEGIN:VTIMEZONE
TZID:America/New_York
X-LIC-LOCATION:America/New_York
BEGIN:DAYLIGHT
DTSTART:20250309T030000
TZOFFSETFROM:-0500
TZOFFSETTO:-0400
TZNAME:EDT
END:DAYLIGHT
END:VTIMEZONE
END:VCALENDAR