BEGIN:VCALENDAR
VERSION:2.0
PRODID:-//wp-events-plugin.com//7.2.3.1//EN
TZID:America/New_York
X-WR-TIMEZONE:America/New_York
BEGIN:VEVENT
UID:153062@kingstonhappenings.org
DTSTART;TZID=America/New_York:20251210T190000
DTEND;TZID=America/New_York:20251210T190000
DTSTAMP:20251208T204556Z
URL:https://kingstonhappenings.org/events/naked/
SUMMARY:Naked
DESCRIPTION:Naked\, the brain child of songwriter Julia Nichols\, is a genr
 e defying mix of soulful\, sultry sounds\, lyrics that give you something 
 to think about and vocal harmonies reminiscent of genres and eras long for
 gotten.\nEminent Hudson Valley musicians/songwriters Sarah Kramer Harrison
  \, Kyle Esposito\, Chris Macchia\, Chris Ragucci and Chris Zaloom complet
 e the entrancing groove that is Naked.The songs\, written by Julia\, Kyle 
 and Sarah\, evoke an atmosphere of unity and immediacy among listeners.\n"
 We just play songs we like. We hope you'll like them too!" ~ Julia Nichols
  ~\nhttps://www.youtube.com/watch?v=W9sOQsUS1T4https://www.youtube.com/wat
 ch?v=ahAH5aAwvu8...\nWednesday\, December 10thDoors: 6pm/Show: 7pm$20 Sugg
 ested Donation
ATTACH;FMTTYPE=image/jpeg:https://kingstonhappenings.org/wp-content/upload
 s/2025/12/579904655_1483175350274689_3645400161315257810_n.jpg
CATEGORIES:@Featured,@Newsletter,Music,Nightlife and entertainment
LOCATION:Colony Woodstock NY\, 22 Rock City Rd\, Woodstock\, New York\, Uni
 ted States
GEO:42.0424924;-74.11799489999999
X-APPLE-STRUCTURED-LOCATION;VALUE=URI;X-ADDRESS=22 Rock City Rd\, Woodstock
 \, New York\, United States;X-APPLE-RADIUS=100;X-TITLE=Colony Woodstock NY
 :geo:42.0424924,-74.11799489999999
END:VEVENT
BEGIN:VTIMEZONE
TZID:America/New_York
X-LIC-LOCATION:America/New_York
BEGIN:STANDARD
DTSTART:20251102T010000
TZOFFSETFROM:-0400
TZOFFSETTO:-0500
TZNAME:EST
END:STANDARD
END:VTIMEZONE
END:VCALENDAR