BEGIN:VCALENDAR
VERSION:2.0
PRODID:-//wp-events-plugin.com//7.2.3.1//EN
TZID:America/New_York
X-WR-TIMEZONE:America/New_York
BEGIN:VEVENT
UID:151470@kingstonhappenings.org
DTSTART;TZID=America/New_York:20250815T200000
DTEND;TZID=America/New_York:20250815T200000
DTSTAMP:20250812T145920Z
URL:https://kingstonhappenings.org/events/mystic-bowies-talking-dreads-a-r
 eggae-tribute-to-the-talking-heads/
SUMMARY:Mystic Bowie’s Talking Dreads: A Reggae Tribute To The Talking He
 ads
DESCRIPTION:On “Life During Wartime\,” the first single from Talking He
 ads’ 1979 album Fear of Music\, David Byrne famously sang the immortal l
 yrics\, “This ain’t no party\, this ain’t no disco…no time for dan
 cing…” Yet all those anti-fun declarations go gleefully out the window
  when Mystic Bowie\, aka the “Head Dread\,” takes the stage\, re-imagi
 ning and infusing fresh life into the Talking Heads’ classic catalog wit
 h his high octane mix of roots reggae\, ska and lover’s rock (aka “rom
 antic reggae”). Since debuting his musically revolutionary Talking Dread
 s project live at the High Times Music Festival on the beach in Negril in 
 late 2015\, the charismatic Jamaican-born singer and performer has electri
 fied audiences at more than 300 shows across North America – spinning th
 e heads of initially skeptical Talking Heads fans\, and getting everyone e
 lse grooving along to the infectious\, joyous rhythms and jubilant spirit 
 of his native island. Considering the success of these events\, it was onl
 y a matter of time before Bowie – who has lived in the Northeastern U.S.
  for many years – headed back to his cherished homeland and set up shop 
 at the famed Barry O’Hare Studios in Ocho Rios. He gathered old friends 
 he had played music with since childhood\, along with younger musicians\, 
 legendary Jamaican artists and other surprise guests to capture all the ma
 gic of his live performances on the epic\, 13 track recording Mystic Bowie
 ’s Talking Dreads.
ATTACH;FMTTYPE=image/jpeg:https://kingstonhappenings.org/wp-content/upload
 s/2025/08/520105075_1185175336981619_6572667046367033512_n.jpg
CATEGORIES:@Featured,@Newsletter,Music,Nightlife and entertainment
LOCATION:Bearsville Theater\, 291 Tinker St\, Woodstock\, New York\, United
  States
GEO:42.039887;-74.154127
X-APPLE-STRUCTURED-LOCATION;VALUE=URI;X-ADDRESS=291 Tinker St\, Woodstock\,
  New York\, United States;X-APPLE-RADIUS=100;X-TITLE=Bearsville Theater:ge
 o:42.039887,-74.154127
END:VEVENT
BEGIN:VTIMEZONE
TZID:America/New_York
X-LIC-LOCATION:America/New_York
BEGIN:DAYLIGHT
DTSTART:20250309T030000
TZOFFSETFROM:-0500
TZOFFSETTO:-0400
TZNAME:EDT
END:DAYLIGHT
END:VTIMEZONE
END:VCALENDAR