BEGIN:VCALENDAR
VERSION:2.0
PRODID:-//wp-events-plugin.com//7.2.3.1//EN
TZID:America/New_York
X-WR-TIMEZONE:America/New_York
BEGIN:VEVENT
UID:155367@kingstonhappenings.org
DTSTART;TZID=America/New_York:20260328T110000
DTEND;TZID=America/New_York:20260328T150000
DTSTAMP:20260324T190518Z
URL:https://kingstonhappenings.org/events/mykingstonkids-presents-bloom-fe
 st/
SUMMARY:MyKingstonKids presents Bloom Fest
DESCRIPTION:&#x1f33c\; Bloom Fest is coming! &#x1f33c\;A joyful day of play
 ing\, learning\, and growing together for families and our community.\nSpr
 ing is more than a season—it’s a shift. Bloom Fest invites you to reco
 nnect\, recharge\, and expand through experiences that support play\, grow
 th\, clarity\, and collective energy.\n&#x2728\; What to expect:&#x1f331\;
  Games\, activities &amp\; family-friendly fun by MyKingstonKids&#x1f331\;
  Vendors &amp\; informative presentations&#x1f331\; Free entry &amp\; refr
 eshments&#x1f331\; A welcoming space for all ages\n&#x1f4c5\; Saturday\, M
 arch 28\, 2026&#x1f55a\; 11:00 AM – 3:00 PM&#x1f4cd\; Andy Murphy Midtow
 n Neighborhood Center467 Broadway\, Kingston\, NY\n&#x1f389\; FREE TO ATTE
 ND\n&#x1f4e9\; Questions? info@mykingstonkids.com | &#x260e\;&#xfe0f\; 845
 -896-0105\nCome bloom with us &#x1f338\;Tag a friend\, bring the family\, 
 and join us for a beautiful day of connection and community.
ATTACH;FMTTYPE=image/jpeg:https://kingstonhappenings.org/wp-content/upload
 s/2026/02/BloomFest-FlyerSideA-copy.jpg
CATEGORIES:@Featured,@Newsletter,Community,Festivals and major community
 events,For kids
LOCATION:Andy Murphy Midtown Center\, 467 Broadway\, Kingston\, NY\, 12401\
 , United States
GEO:41.927036;-73.99919999999997
X-APPLE-STRUCTURED-LOCATION;VALUE=URI;X-ADDRESS=467 Broadway\, Kingston\, N
 Y\, 12401\, United States;X-APPLE-RADIUS=100;X-TITLE=Andy Murphy Midtown C
 enter:geo:41.927036,-73.99919999999997
END:VEVENT
BEGIN:VTIMEZONE
TZID:America/New_York
X-LIC-LOCATION:America/New_York
BEGIN:DAYLIGHT
DTSTART:20260308T030000
TZOFFSETFROM:-0500
TZOFFSETTO:-0400
TZNAME:EDT
END:DAYLIGHT
END:VTIMEZONE
END:VCALENDAR