BEGIN:VCALENDAR
VERSION:2.0
PRODID:-//wp-events-plugin.com//7.2.3.1//EN
TZID:America/New_York
X-WR-TIMEZONE:America/New_York
BEGIN:VEVENT
UID:152436@kingstonhappenings.org
DTSTART;TZID=America/New_York:20251111T190000
DTEND;TZID=America/New_York:20251111T203000
DTSTAMP:20251023T161830Z
URL:https://kingstonhappenings.org/events/music-fan-series-spinal-tap-ll-t
 he-end-continues/
SUMMARY:Music Fan Series\; Spinal Tap ll – The End Continues
DESCRIPTION:It’s déja vü all over again: Estranged Spinal Tap bandmates
  David St. Hubbins\, Nigel Tufnel and Derek Smalls prepare for a reunion c
 oncert in New Orleans. Still arguing over past grudges\, Spinal Tap strugg
 les to focus on the goal of putting on a show to solidify their reputation
  as heavy metal legends. Will they succeed?\n\nSPINAL TAP II: THE END CONT
 INUES is the long-waited sequel to the 1984 mockumentary classic This Is S
 pinal Tap. The new film reunites the core cast of Christopher Guest\, Mich
 ael McKean and Harry Shearer with director Rob Reiner.\n\nThe new film fea
 tures all-star cameo appearances by musicians Paul McCartney\, Elton John\
 , Garth Brooks\, Questlove\, Trisha Yearwood\, Chad Smith\, and Lars Ulric
 h.
ATTACH;FMTTYPE=image/jpeg:https://kingstonhappenings.org/wp-content/upload
 s/2025/10/spinal-tap-sm.jpg
CATEGORIES:@Featured,Movies
LOCATION:Rosendale Theater\, 408 Main St\, Rosendale\, New York\, 12472\, U
 nited States
GEO:41.8441401;-74.0821133
X-APPLE-STRUCTURED-LOCATION;VALUE=URI;X-ADDRESS=408 Main St\, Rosendale\, N
 ew York\, 12472\, United States;X-APPLE-RADIUS=100;X-TITLE=Rosendale Theat
 er:geo:41.8441401,-74.0821133
END:VEVENT
BEGIN:VTIMEZONE
TZID:America/New_York
X-LIC-LOCATION:America/New_York
BEGIN:STANDARD
DTSTART:20251102T010000
TZOFFSETFROM:-0400
TZOFFSETTO:-0500
TZNAME:EST
END:STANDARD
END:VTIMEZONE
END:VCALENDAR