BEGIN:VCALENDAR
VERSION:2.0
PRODID:-//wp-events-plugin.com//7.2.3.1//EN
TZID:America/New_York
X-WR-TIMEZONE:America/New_York
BEGIN:VEVENT
UID:152115@kingstonhappenings.org
DTSTART;TZID=America/New_York:20251008T190000
DTEND;TZID=America/New_York:20251008T210000
DTSTAMP:20251007T130829Z
URL:https://kingstonhappenings.org/events/music-fan-film-series-presents-h
 ung-up-on-a-dream/
SUMMARY:Music Fan Film Series Presents: Hung Up On A Dream
DESCRIPTION:When rock critics and pop music fans list the British Invasion
 ’s most seminal bands\, they usually include the Beatles\, the Rolling S
 tones\, The Who\, and the Kinks—but somehow the Zombies get left out. Fi
 lmmaker Robert Schwartz (The Argument) sets the vinyl record straight with
  Hung Up on a Dream: The Zombies Documentary. The Zombies is a charming gr
 oup of blokes that includes Rod Argent\, Colin Blunstone\, Chris White\, H
 ugh Grundy\, and the late Paul Atkinson.\n\nThe film recounts the Zombies
 ’ ups and downs\, split-ups\, reunions and\, humorously\, the fake bands
  that cynical record companies created during some of the band’s hiatuse
 s. Today\, rather than fade into obscurity or sign on to a nostalgia tour\
 , these aging rockers manage to remain relevant with a new album and tour.
ATTACH;FMTTYPE=image/jpeg:https://kingstonhappenings.org/wp-content/upload
 s/2025/09/Zombies-sm.jpg
CATEGORIES:@Featured,@Newsletter,Movies
LOCATION:Rosendale Theater\, 408 Main St\, Rosendale\, New York\, 12472\, U
 nited States
GEO:41.8441401;-74.0821133
X-APPLE-STRUCTURED-LOCATION;VALUE=URI;X-ADDRESS=408 Main St\, Rosendale\, N
 ew York\, 12472\, United States;X-APPLE-RADIUS=100;X-TITLE=Rosendale Theat
 er:geo:41.8441401,-74.0821133
END:VEVENT
BEGIN:VTIMEZONE
TZID:America/New_York
X-LIC-LOCATION:America/New_York
BEGIN:DAYLIGHT
DTSTART:20250309T030000
TZOFFSETFROM:-0500
TZOFFSETTO:-0400
TZNAME:EDT
END:DAYLIGHT
END:VTIMEZONE
END:VCALENDAR