BEGIN:VCALENDAR
VERSION:2.0
PRODID:-//wp-events-plugin.com//7.2.3.1//EN
TZID:America/New_York
X-WR-TIMEZONE:America/New_York
BEGIN:VEVENT
UID:156012@kingstonhappenings.org
DTSTART;TZID=America/New_York:20260329T150000
DTEND;TZID=America/New_York:20260329T170000
DTSTAMP:20260324T190524Z
URL:https://kingstonhappenings.org/events/music-diplomacy/
SUMMARY:Music & Diplomacy
DESCRIPTION:panel session and ASQ performance honoring the jazz diplomacy t
 radition. Sponsored by the City of Kingston Department of Arts and Cultura
 l Affairs\, with Bard College and the World Affairs Council of the Mid-Hud
 son Valley
ATTACH;FMTTYPE=image/jpeg:https://kingstonhappenings.org/wp-content/upload
 s/2026/03/Music-Diplomacy-flyer-scaled-1.png
CATEGORIES:@Featured,@Newsletter,Community,Educational classes and
 lectures,Sports and recreation
LOCATION:Old Dutch Church\, 272 Wall St\, Kingston\, NY\, 12401\, United St
 ates
GEO:41.932863;-74.018839
X-APPLE-STRUCTURED-LOCATION;VALUE=URI;X-ADDRESS=272 Wall St\, Kingston\, NY
 \, 12401\, United States;X-APPLE-RADIUS=100;X-TITLE=Old Dutch Church:geo:4
 1.932863,-74.018839
END:VEVENT
BEGIN:VTIMEZONE
TZID:America/New_York
X-LIC-LOCATION:America/New_York
BEGIN:DAYLIGHT
DTSTART:20260308T030000
TZOFFSETFROM:-0500
TZOFFSETTO:-0400
TZNAME:EDT
END:DAYLIGHT
END:VTIMEZONE
END:VCALENDAR