BEGIN:VCALENDAR
VERSION:2.0
PRODID:-//wp-events-plugin.com//7.2.3.1//EN
TZID:America/New_York
X-WR-TIMEZONE:America/New_York
BEGIN:VEVENT
UID:154937@kingstonhappenings.org
DTSTART;TZID=America/New_York:20260219T110000
DTEND;TZID=America/New_York:20260219T120000
DTSTAMP:20260121T213248Z
URL:https://kingstonhappenings.org/events/museum-mates-storytime-2/
SUMMARY:Museum Mates Storytime
DESCRIPTION:The Hudson River Maritime Museum is proud to offer a new mariti
 me inspired story hour for young children. Come join us for Museum Mates\,
  an enriching and entertaining time for kids and parents alike. Take this 
 unique opportunity to play in a museum setting\, surrounded by local histo
 ric objects and educational resources and get your children excited about 
 museums and learning! When you’re done\, enjoy complementary museum admi
 ssion included with your free ticket. Stay as long as you like and soak in
  the history. This program is recommended for children age six and under a
 nd adults of all ages!
ATTACH;FMTTYPE=image/jpeg:https://kingstonhappenings.org/wp-content/upload
 s/2026/01/Longer-MM-for-community-calendars.png
CATEGORIES:@Featured
LOCATION:Hudson River Maritime Museum\, 50 Rondout Landing\, Kingston\, NY\
 , 12401\, United States
GEO:41.91886;-73.980984
X-APPLE-STRUCTURED-LOCATION;VALUE=URI;X-ADDRESS=50 Rondout Landing\, Kingst
 on\, NY\, 12401\, United States;X-APPLE-RADIUS=100;X-TITLE=Hudson River Ma
 ritime Museum:geo:41.91886,-73.980984
END:VEVENT
BEGIN:VTIMEZONE
TZID:America/New_York
X-LIC-LOCATION:America/New_York
BEGIN:STANDARD
DTSTART:20251102T010000
TZOFFSETFROM:-0400
TZOFFSETTO:-0500
TZNAME:EST
END:STANDARD
END:VTIMEZONE
END:VCALENDAR