BEGIN:VCALENDAR
VERSION:2.0
PRODID:-//wp-events-plugin.com//7.2.3.1//EN
TZID:America/New_York
X-WR-TIMEZONE:America/New_York
BEGIN:VEVENT
UID:152430@kingstonhappenings.org
DTSTART;TZID=America/New_York:20251105T190000
DTEND;TZID=America/New_York:20251105T203000
DTSTAMP:20251103T160730Z
URL:https://kingstonhappenings.org/events/murder-by-death-2/
SUMMARY:Murder by Death
DESCRIPTION:The Six Bells &amp\; Rosendale Theatre Present: Cozy With a Cha
 nce of Murder\n\nThe evening begins with a $50 prix fixe dinner at The Fea
 thers Tavern\, followed by a cozy murder mystery screening for $10 at The 
 Rosendale Theatre. An autumn supper followed by dimmed lights\, and an eve
 ning of mystery—$60 in total. Dinner reservations are available via Resy
 . Click the RSVP button to make your reservation today. Standalone tickets
  can be purchased directly through this page.\n\nAbout the Movie: Lionel T
 wain invites the world’s five greatest detectives to a ‘dinner and mur
 der’. Included are a blind butler\, a deaf-mute maid\, screams\, spinnin
 g rooms\, secret passages\, false identities and more plot turns and twist
 s than are decently allowed.\n\nStarring: Alec Guinness\, David Niven\, Ma
 ggie Smith\, Peter Sellers\, Truman Capote
ATTACH;FMTTYPE=image/jpeg:https://kingstonhappenings.org/wp-content/upload
 s/2025/10/murder-by-death-sm-1.png
CATEGORIES:@Featured,@Newsletter,Movies
LOCATION:Rosendale Theater\, 408 Main St\, Rosendale\, New York\, 12472\, U
 nited States
GEO:41.8441401;-74.0821133
X-APPLE-STRUCTURED-LOCATION;VALUE=URI;X-ADDRESS=408 Main St\, Rosendale\, N
 ew York\, 12472\, United States;X-APPLE-RADIUS=100;X-TITLE=Rosendale Theat
 er:geo:41.8441401,-74.0821133
END:VEVENT
BEGIN:VTIMEZONE
TZID:America/New_York
X-LIC-LOCATION:America/New_York
BEGIN:STANDARD
DTSTART:20251102T010000
TZOFFSETFROM:-0400
TZOFFSETTO:-0500
TZNAME:EST
END:STANDARD
END:VTIMEZONE
END:VCALENDAR