BEGIN:VCALENDAR
VERSION:2.0
PRODID:-//wp-events-plugin.com//7.2.3.1//EN
TZID:America/New_York
X-WR-TIMEZONE:America/New_York
BEGIN:VEVENT
UID:156421@kingstonhappenings.org
DTSTART;TZID=America/New_York:20260523T160000
DTEND;TZID=America/New_York:20260523T174500
DTSTAMP:20260422T030229Z
URL:https://kingstonhappenings.org/events/muppet-treasure-island-1996/
SUMMARY:Muppet Treasure Island (1996)
DESCRIPTION:In this Muppet adaptation of the classic tale\, young Jim Hawk
 ins (Kevin Bishop)\, accompanied by Gonzo and Rizzo\, sets sail to find Ca
 ptain Flint’s buried treasure. Along with Captain Smollett (Kermit the F
 rog) and Squire Trelawney (Fozzie Bear)\, they unknowingly hire a crew of 
 pirates led by the devious cook\, Long John Silver (Tim Curry).\n\nPresent
 ed In partnership with The Six Bells Countryside Inn
ATTACH;FMTTYPE=image/jpeg:https://kingstonhappenings.org/wp-content/upload
 s/2026/04/p_muppettreasureisland_19640_a7d3ec93.jpeg
CATEGORIES:@Featured,Movies
LOCATION:Rosendale Theater\, 408 Main St\, Rosendale\, New York\, 12472\, U
 nited States
GEO:41.8441401;-74.0821133
X-APPLE-STRUCTURED-LOCATION;VALUE=URI;X-ADDRESS=408 Main St\, Rosendale\, N
 ew York\, 12472\, United States;X-APPLE-RADIUS=100;X-TITLE=Rosendale Theat
 er:geo:41.8441401,-74.0821133
END:VEVENT
BEGIN:VTIMEZONE
TZID:America/New_York
X-LIC-LOCATION:America/New_York
BEGIN:DAYLIGHT
DTSTART:20260308T030000
TZOFFSETFROM:-0500
TZOFFSETTO:-0400
TZNAME:EDT
END:DAYLIGHT
END:VTIMEZONE
END:VCALENDAR