BEGIN:VCALENDAR
VERSION:2.0
PRODID:-//wp-events-plugin.com//7.2.3.1//EN
TZID:America/New_York
X-WR-TIMEZONE:America/New_York
BEGIN:VEVENT
UID:156419@kingstonhappenings.org
DTSTART;TZID=America/New_York:20260509T160000
DTEND;TZID=America/New_York:20260509T174500
DTSTAMP:20260422T030228Z
URL:https://kingstonhappenings.org/events/muppet-movie-1979/
SUMMARY:Muppet Movie (1979)
DESCRIPTION:After Kermit the Frog decides to pursue a movie career\, he sta
 rts his cross-country trip from Florida to California. Along the way\, he 
 meets and befriends Fozzie Bear\, Miss Piggy\, Gonzo\, and rock musicians 
 Dr. Teeth and the Electric Mayhem. When Kermit is offered a job by Doc Hop
 per (Charles Durning) to advertise fried frog legs at his restaurant chain
 \, Kermit turns it down. However\, Hopper refuses to relent and pursues Ke
 rmit and his companions to a final showdown.\n\nPresented In partnership w
 ith The Six Bells Countryside Inn
ATTACH;FMTTYPE=image/jpeg:https://kingstonhappenings.org/wp-content/upload
 s/2026/04/the-muppet-movie-sm.jpg
CATEGORIES:@Featured,Movies
LOCATION:Rosendale Theater\, 408 Main St\, Rosendale\, New York\, 12472\, U
 nited States
GEO:41.8441401;-74.0821133
X-APPLE-STRUCTURED-LOCATION;VALUE=URI;X-ADDRESS=408 Main St\, Rosendale\, N
 ew York\, 12472\, United States;X-APPLE-RADIUS=100;X-TITLE=Rosendale Theat
 er:geo:41.8441401,-74.0821133
END:VEVENT
BEGIN:VTIMEZONE
TZID:America/New_York
X-LIC-LOCATION:America/New_York
BEGIN:DAYLIGHT
DTSTART:20260308T030000
TZOFFSETFROM:-0500
TZOFFSETTO:-0400
TZNAME:EDT
END:DAYLIGHT
END:VTIMEZONE
END:VCALENDAR