BEGIN:VCALENDAR
VERSION:2.0
PRODID:-//wp-events-plugin.com//7.2.3.1//EN
TZID:America/New_York
X-WR-TIMEZONE:America/New_York
BEGIN:VEVENT
UID:156346@kingstonhappenings.org
DTSTART;TZID=America/New_York:20260522T140000
DTEND;TZID=America/New_York:20260522T153000
DTSTAMP:20260419T190635Z
URL:https://kingstonhappenings.org/events/mr-nobody-against-putin/
SUMMARY:Mr. Nobody Against Putin
DESCRIPTION:Pavel “Pasha” (33) is a teacher and event organizer at a sm
 all primary school in a Russian town with a population of 10\,000. In ordi
 nary times\, he is a beloved mentor\, prankster\, and nonconformist\, know
 n for hanging up democracy posters and offering a safe haven in his office
  for students who feel out of place. However\, after the 2022 full-scale i
 nvasion of Ukraine began\, Pasha took on the role of an international whis
 tleblower\, exposing the devastating effects of Russia’s aggressive mili
 tarization within its own schools. Haunted by his painful years as a stude
 nt at the same school\, Pasha remains a lighthearted and mischievous prese
 nce on campus.
ATTACH;FMTTYPE=image/jpeg:https://kingstonhappenings.org/wp-content/upload
 s/2026/04/mr-nobody-300.jpg
CATEGORIES:@Featured,Movies
LOCATION:Rosendale Theater\, 408 Main St\, Rosendale\, New York\, 12472\, U
 nited States
GEO:41.8441401;-74.0821133
X-APPLE-STRUCTURED-LOCATION;VALUE=URI;X-ADDRESS=408 Main St\, Rosendale\, N
 ew York\, 12472\, United States;X-APPLE-RADIUS=100;X-TITLE=Rosendale Theat
 er:geo:41.8441401,-74.0821133
END:VEVENT
BEGIN:VTIMEZONE
TZID:America/New_York
X-LIC-LOCATION:America/New_York
BEGIN:DAYLIGHT
DTSTART:20260308T030000
TZOFFSETFROM:-0500
TZOFFSETTO:-0400
TZNAME:EDT
END:DAYLIGHT
END:VTIMEZONE
END:VCALENDAR