BEGIN:VCALENDAR
VERSION:2.0
PRODID:-//wp-events-plugin.com//7.2.3.1//EN
TZID:America/New_York
X-WR-TIMEZONE:America/New_York
BEGIN:VEVENT
UID:149244@kingstonhappenings.org
DTSTART;TZID=America/New_York:20250825T210000
DTEND;TZID=America/New_York:20250825T210000
DTSTAMP:20250609T141823Z
URL:https://kingstonhappenings.org/events/movie-monday-2025-08-25/
SUMMARY:Movie Monday
DESCRIPTION:Join us at Salt Box every Monday for movie night on the back pa
 tio! We'll be screening your faves and ours\, with drink specials to go al
 ong with the films! 21+ please\, and no cover
ATTACH;FMTTYPE=image/jpeg:https://kingstonhappenings.org/wp-content/upload
 s/2025/05/469693102_541253665559637_4177497703196791909_n.jpg
CATEGORIES:@Featured,Movies,Nightlife and entertainment
LOCATION:Salt Box Bar\, 10 Crown St. \, KINGSTON\, NY\, 12401\, United Stat
 es
GEO:41.93277;-74.020671
X-APPLE-STRUCTURED-LOCATION;VALUE=URI;X-ADDRESS=10 Crown St. \, KINGSTON\, 
 NY\, 12401\, United States;X-APPLE-RADIUS=100;X-TITLE=Salt Box Bar:geo:41.
 93277,-74.020671
END:VEVENT
BEGIN:VTIMEZONE
TZID:America/New_York
X-LIC-LOCATION:America/New_York
BEGIN:DAYLIGHT
DTSTART:20250309T030000
TZOFFSETFROM:-0500
TZOFFSETTO:-0400
TZNAME:EDT
END:DAYLIGHT
END:VTIMEZONE
END:VCALENDAR