BEGIN:VCALENDAR
VERSION:2.0
PRODID:-//wp-events-plugin.com//7.2.3.1//EN
TZID:America/New_York
X-WR-TIMEZONE:America/New_York
BEGIN:VEVENT
UID:153046@kingstonhappenings.org
DTSTART;TZID=America/New_York:20251212T190000
DTEND;TZID=America/New_York:20251212T190000
DTSTAMP:20251208T204559Z
URL:https://kingstonhappenings.org/events/moe-greene-the-dive-bar-juicers-
 join-forces-with-am-gold/
SUMMARY:Moe Greene & The Dive Bar Juicers join forces with AM Gold
DESCRIPTION:Moe Greene &amp\; The Dive Bar Juicers join forces with AM Gold
  for a high energy show at Keegan Ales.
ATTACH;FMTTYPE=image/jpeg:https://kingstonhappenings.org/wp-content/upload
 s/2025/12/575911437_1432356605557516_730691013942176483_n.jpg
CATEGORIES:@Featured,@Newsletter,Music,Nightlife and entertainment
LOCATION:Keegan Ales\, 20 Saint James Street\, Kingston\, NY\, 12401\, Unit
 ed States
GEO:41.931504;-74.01187
X-APPLE-STRUCTURED-LOCATION;VALUE=URI;X-ADDRESS=20 Saint James Street\, Kin
 gston\, NY\, 12401\, United States;X-APPLE-RADIUS=100;X-TITLE=Keegan Ales:
 geo:41.931504,-74.01187
END:VEVENT
BEGIN:VTIMEZONE
TZID:America/New_York
X-LIC-LOCATION:America/New_York
BEGIN:STANDARD
DTSTART:20251102T010000
TZOFFSETFROM:-0400
TZOFFSETTO:-0500
TZNAME:EST
END:STANDARD
END:VTIMEZONE
END:VCALENDAR