BEGIN:VCALENDAR
VERSION:2.0
PRODID:-//wp-events-plugin.com//7.2.3.1//EN
TZID:America/New_York
X-WR-TIMEZONE:America/New_York
BEGIN:VEVENT
UID:152315@kingstonhappenings.org
DTSTART;TZID=America/New_York:20251017T200000
DTEND;TZID=America/New_York:20251017T200000
DTSTAMP:20251020T141546Z
URL:https://kingstonhappenings.org/events/modest-mouse/
SUMMARY:Modest Mouse
DESCRIPTION:Modest Mouse continues to prove themselves to be one of the mos
 t consistent live acts today. Modest Mouse released their highly anticipat
 ed new album\, The Golden Casket\, on June 25\, 2021 via Epic Records. The
  Golden Casket heralds another new chapter in the GRAMMY® Award-nominated
  multi platinum band’s unpredictable evolution. Produced with Dave Sardy
  and Jacknife Lee in Los Angeles and in Modest Mouse’s studio in Portlan
 d\, the album hovers in the liminal space between raw punk power and exper
 imental studio science\, frontman Isaac Brock explores themes ranging from
  the degradation of our psychic landscapes and invisible technology\, to f
 atherhood. The twelve tracks behave like amorphous organisms\, undergoing 
 dramatic mutations and mood swings that speak to the chronic tug-of-war be
 tween hope and despair that plays out in Brock’s head.
ATTACH;FMTTYPE=image/jpeg:https://kingstonhappenings.org/wp-content/upload
 s/2025/10/501301255_1109529637885650_3349389377107312000_n.jpg
CATEGORIES:@Featured,@Newsletter,Music,Nightlife and entertainment
LOCATION:Ulster Performing Arts Center (UPAC)\, 601 Broadway\, Kingston\, N
 ew York\, 12401\, United States
GEO:41.92931799999999;-74.004142
X-APPLE-STRUCTURED-LOCATION;VALUE=URI;X-ADDRESS=601 Broadway\, Kingston\, N
 ew York\, 12401\, United States;X-APPLE-RADIUS=100;X-TITLE=Ulster Performi
 ng Arts Center (UPAC):geo:41.92931799999999,-74.004142
END:VEVENT
BEGIN:VTIMEZONE
TZID:America/New_York
X-LIC-LOCATION:America/New_York
BEGIN:DAYLIGHT
DTSTART:20250309T030000
TZOFFSETFROM:-0500
TZOFFSETTO:-0400
TZNAME:EDT
END:DAYLIGHT
END:VTIMEZONE
END:VCALENDAR